BEGIN:VCALENDAR
VERSION:2.0
PRODID:-//CDA - ECPv6.15.11//NONSGML v1.0//EN
CALSCALE:GREGORIAN
METHOD:PUBLISH
X-WR-CALNAME:CDA
X-ORIGINAL-URL:https://www.cda.org
X-WR-CALDESC:Events for CDA
REFRESH-INTERVAL;VALUE=DURATION:PT1H
X-Robots-Tag:noindex
X-PUBLISHED-TTL:PT1H
BEGIN:VTIMEZONE
TZID:America/Los_Angeles
BEGIN:DAYLIGHT
TZOFFSETFROM:-0800
TZOFFSETTO:-0700
TZNAME:PDT
DTSTART:20230312T100000
END:DAYLIGHT
BEGIN:STANDARD
TZOFFSETFROM:-0700
TZOFFSETTO:-0800
TZNAME:PST
DTSTART:20231105T090000
END:STANDARD
BEGIN:DAYLIGHT
TZOFFSETFROM:-0800
TZOFFSETTO:-0700
TZNAME:PDT
DTSTART:20240310T100000
END:DAYLIGHT
BEGIN:STANDARD
TZOFFSETFROM:-0700
TZOFFSETTO:-0800
TZNAME:PST
DTSTART:20241103T090000
END:STANDARD
BEGIN:DAYLIGHT
TZOFFSETFROM:-0800
TZOFFSETTO:-0700
TZNAME:PDT
DTSTART:20250309T100000
END:DAYLIGHT
BEGIN:STANDARD
TZOFFSETFROM:-0700
TZOFFSETTO:-0800
TZNAME:PST
DTSTART:20251102T090000
END:STANDARD
END:VTIMEZONE
BEGIN:VEVENT
DTSTART;TZID=America/Los_Angeles:20241011T074500
DTEND;TZID=America/Los_Angeles:20241011T131500
DTSTAMP:20260419T111742
CREATED:20240919T191301Z
LAST-MODIFIED:20250129T203605Z
UID:10000495-1728632700-1728652500@www.cda.org
SUMMARY:VA's First International Virtual Symposium on Artificial Intelligence in Dentistry
DESCRIPTION:Under the auspices of VA Greater Los Angeles Healthcare System (VAGLAHS)\, VA’s First International Virtual Symposium on Artificial Intelligence in Dentistry will be held on Oct 11\, 2024 (10:45am-4:15pm ET/7:45am-1:15pm PST). The course is jointly offered with VISN22 – Desert Pacific Healthcare Network and the Institute for Learning\, Education and Development (ILEAD). \n\n\n\nInspired by the VHA’s vision to “lead the future in delivering unparalleled health and wellbeing to our nation’s Veterans and to the nation\,” we are excited to share cutting edge information on AI in dentistry. \n\n\n\nTop researchers\, academics\, innovators\, and industry experts from around the world have agreed to serve as a faculty for the event. They will shed light on the path being shaped by AI. It will help us learn “why\, how\, and what“ about AI’s impending impact on dentistry and dental education. Moderated panel discussions will also welcome your questions for these renowned subject matter experts.
URL:https://www.cda.org/event-details/vas-first-international-virtual-symposium-on-artificial-intelligence-in-dentistry/
LOCATION:Online Meeting
CATEGORIES:Affiliate Virtual Event
END:VEVENT
BEGIN:VEVENT
DTSTART;TZID=America/Los_Angeles:20240509T180000
DTEND;TZID=America/Los_Angeles:20240509T193000
DTSTAMP:20260419T111742
CREATED:20240402T182532Z
LAST-MODIFIED:20240417T182709Z
UID:10000408-1715277600-1715283000@www.cda.org
SUMMARY:Navigating Challenges in Dental Practices: Patient Conflict\, Mental Health and Workplace Violence Prevention
DESCRIPTION:This 90-minute virtual membership meeting will address some of the more timely issues facing dental practices\, including managing patient conflict\, creating psychological safety and support for mental health challenges and resources for workplace violence prevention.  \n\n\n\nKey areas specific to dental practice safety will be covered: \n\n\n\n\nCommon scenarios related to patient and staff conflict and appropriate interventions.\n\n\n\nMental health and wellness support and resources available through the CDA Foundation Wellness Program.\n\n\n\nCreating a workplace violence prevention plan in compliance with new legislation.
URL:https://www.cda.org/event-details/navigating-challenges-in-dental-practices-patient-conflict-mental-health-and-workplace-violence-prevention/
LOCATION:Online Meeting
ATTACH;FMTTYPE=image/jpeg:https://www.cda.org/wp-content/uploads/CDAPS_Violence_Workplace_web_1000x600.jpg
END:VEVENT
BEGIN:VEVENT
DTSTART;TZID=America/Los_Angeles:20240426T090000
DTEND;TZID=America/Los_Angeles:20240426T130000
DTSTAMP:20260419T111742
CREATED:20240215T164004Z
LAST-MODIFIED:20240215T164319Z
UID:10000348-1714122000-1714136400@www.cda.org
SUMMARY:CDA Foundation Board of Directors
DESCRIPTION:
URL:https://www.cda.org/event-details/cda-foundation-board-of-directors-5/
LOCATION:Online Meeting
CATEGORIES:Meeting
END:VEVENT
BEGIN:VEVENT
DTSTART;TZID=America/Los_Angeles:20240410T120000
DTEND;TZID=America/Los_Angeles:20240410T133000
DTSTAMP:20260419T111742
CREATED:20240215T164106Z
LAST-MODIFIED:20240215T164313Z
UID:10000349-1712750400-1712755800@www.cda.org
SUMMARY:Government Affairs Council
DESCRIPTION:
URL:https://www.cda.org/event-details/government-affairs-council-8/
LOCATION:Online Meeting
CATEGORIES:Meeting
END:VEVENT
BEGIN:VEVENT
DTSTART;TZID=America/Los_Angeles:20240315T090000
DTEND;TZID=America/Los_Angeles:20240315T110000
DTSTAMP:20260419T111742
CREATED:20240215T164432Z
LAST-MODIFIED:20240215T164435Z
UID:10000351-1710493200-1710500400@www.cda.org
SUMMARY:Wellness Committee
DESCRIPTION:
URL:https://www.cda.org/event-details/wellness-committee/
LOCATION:Online Meeting
CATEGORIES:Meeting
END:VEVENT
BEGIN:VEVENT
DTSTART;TZID=America/Los_Angeles:20240223T090000
DTEND;TZID=America/Los_Angeles:20240223T120000
DTSTAMP:20260419T111742
CREATED:20240116T000546Z
LAST-MODIFIED:20240215T163805Z
UID:10000330-1708678800-1708689600@www.cda.org
SUMMARY:CDA Finance Committee Meeting
DESCRIPTION:
URL:https://www.cda.org/event-details/cda-finance-committee-meeting/
LOCATION:Online Meeting
CATEGORIES:Meeting
END:VEVENT
BEGIN:VEVENT
DTSTART;TZID=America/Los_Angeles:20240216T130000
DTEND;TZID=America/Los_Angeles:20240216T170000
DTSTAMP:20260419T111742
CREATED:20240116T000459Z
LAST-MODIFIED:20240116T000535Z
UID:10000329-1708088400-1708102800@www.cda.org
SUMMARY:Committee on Volunteer Placement Meeting
DESCRIPTION:
URL:https://www.cda.org/event-details/committee-on-volunteer-placement-meeting/
LOCATION:Online Meeting
CATEGORIES:Meeting
END:VEVENT
BEGIN:VEVENT
DTSTART;TZID=America/Los_Angeles:20240215T000000
DTEND;TZID=America/Los_Angeles:20240216T235959
DTSTAMP:20260419T111742
CREATED:20240116T000355Z
LAST-MODIFIED:20240116T000357Z
UID:10000328-1707955200-1708127999@www.cda.org
SUMMARY:TDIC/TDIC Insurance Solutions Board of Directors and Committee Meetings
DESCRIPTION:
URL:https://www.cda.org/event-details/tdic-tdic-insurance-solutions-board-of-directors-and-committee-meetings/
LOCATION:Online Meeting
CATEGORIES:Meeting
END:VEVENT
BEGIN:VEVENT
DTSTART;TZID=America/Los_Angeles:20240202T090000
DTEND;TZID=America/Los_Angeles:20240202T130000
DTSTAMP:20260419T111742
CREATED:20240116T000301Z
LAST-MODIFIED:20240116T000303Z
UID:10000327-1706864400-1706878800@www.cda.org
SUMMARY:CDA Audit Committee Meeting
DESCRIPTION:
URL:https://www.cda.org/event-details/cda-audit-committee-meeting/
LOCATION:Online Meeting
CATEGORIES:Meeting
END:VEVENT
END:VCALENDAR