BEGIN:VCALENDAR
VERSION:2.0
PRODID:-//CDA - ECPv6.15.11//NONSGML v1.0//EN
CALSCALE:GREGORIAN
METHOD:PUBLISH
X-WR-CALNAME:CDA
X-ORIGINAL-URL:https://www.cda.org
X-WR-CALDESC:Events for CDA
REFRESH-INTERVAL;VALUE=DURATION:PT1H
X-Robots-Tag:noindex
X-PUBLISHED-TTL:PT1H
BEGIN:VTIMEZONE
TZID:America/Los_Angeles
BEGIN:DAYLIGHT
TZOFFSETFROM:-0800
TZOFFSETTO:-0700
TZNAME:PDT
DTSTART:20230312T100000
END:DAYLIGHT
BEGIN:STANDARD
TZOFFSETFROM:-0700
TZOFFSETTO:-0800
TZNAME:PST
DTSTART:20231105T090000
END:STANDARD
BEGIN:DAYLIGHT
TZOFFSETFROM:-0800
TZOFFSETTO:-0700
TZNAME:PDT
DTSTART:20240310T100000
END:DAYLIGHT
BEGIN:STANDARD
TZOFFSETFROM:-0700
TZOFFSETTO:-0800
TZNAME:PST
DTSTART:20241103T090000
END:STANDARD
BEGIN:DAYLIGHT
TZOFFSETFROM:-0800
TZOFFSETTO:-0700
TZNAME:PDT
DTSTART:20250309T100000
END:DAYLIGHT
BEGIN:STANDARD
TZOFFSETFROM:-0700
TZOFFSETTO:-0800
TZNAME:PST
DTSTART:20251102T090000
END:STANDARD
BEGIN:DAYLIGHT
TZOFFSETFROM:-0800
TZOFFSETTO:-0700
TZNAME:PDT
DTSTART:20260308T100000
END:DAYLIGHT
BEGIN:STANDARD
TZOFFSETFROM:-0700
TZOFFSETTO:-0800
TZNAME:PST
DTSTART:20261101T090000
END:STANDARD
BEGIN:DAYLIGHT
TZOFFSETFROM:-0800
TZOFFSETTO:-0700
TZNAME:PDT
DTSTART:20270314T100000
END:DAYLIGHT
BEGIN:STANDARD
TZOFFSETFROM:-0700
TZOFFSETTO:-0800
TZNAME:PST
DTSTART:20271107T090000
END:STANDARD
END:VTIMEZONE
BEGIN:VEVENT
DTSTART;TZID=America/Los_Angeles:20260414T174500
DTEND;TZID=America/Los_Angeles:20260414T210000
DTSTAMP:20260423T025549
CREATED:20260123T201537Z
LAST-MODIFIED:20260123T201539Z
UID:10001296-1776188700-1776200400@www.cda.org
SUMMARY:General Membership CE Meeting: Non-Odontogenic Tooth Pain
DESCRIPTION:The primary cause of tooth pain is a dental disease that ends up sometimes needing restorative work\, root canal treatment or even extraction. What if the pain persists beyond the dental treatment? Would this be a medical condition related to jaw or head and neck issues? This lecture will discuss how to recognize\, differentiate and manage dental pain due to medical (Non-odontogenic) conditions and how to collaborate with an orofacial pain specialist on management.Learning Objectives: \n\n\n\n\nUnderstanding the concept of Non-Odontogenic tooth pain\n\n\n\nIdentifying contributing factors and medical conditions causing Non-Odontogenic tooth pain\n\n\n\nLearning about red flags of Non-Odontogenic tooth pain\n\n\n\nUnderstanding diagnostic and management options\n\n\n\nWhen to refer.
URL:https://www.cda.org/event-details/general-membership-ce-meeting-non-odontogenic-tooth-pain/
LOCATION:Hilton Sacramento Arden West\, 2200 Harvard Street\, Sacramento\, California\, 95815\, United States
CATEGORIES:Affiliate In-Person Event
ORGANIZER;CN="Sacramento District Dental Society":MAILTO:sdds@sdds.org
END:VEVENT
BEGIN:VEVENT
DTSTART;TZID=America/Los_Angeles:20260310T174500
DTEND;TZID=America/Los_Angeles:20260310T210000
DTSTAMP:20260423T025549
CREATED:20260123T201252Z
LAST-MODIFIED:20260123T201255Z
UID:10001295-1773164700-1773176400@www.cda.org
SUMMARY:General Membership CE Meeting: Leading with Trust: Tools to Inspire Teams\, Prevent Burnout\, and Build Wellness
DESCRIPTION:This session explores how trust-centered leadership transforms dental teams by strengthening relationships\, reducing stress\, and promoting resilience. Participants will gain evidence-based strategies to address burnout\, foster team wellness\, and create a culture of purpose and engagement that sustains both professional success and personal fulfillment.Learning Objectives: \n\n\n\n\nUnderstand the link between leadership\, trust\, burnout\, and overall team wellness in dentistry.\n\n\n\nLearn actionable tools to build stronger teams\, reduce stress\, and foster a culture that prevents burnout.\n\n\n\nDiscover ways to inspire purpose and meaning that sustain both personal well-being and professional success.
URL:https://www.cda.org/event-details/general-membership-ce-meeting-leading-with-trust-tools-to-inspire-teams-prevent-burnout-and-build-wellness/
LOCATION:Hilton Sacramento Arden West\, 2200 Harvard Street\, Sacramento\, California\, 95815\, United States
CATEGORIES:Affiliate In-Person Event
ORGANIZER;CN="Sacramento District Dental Society":MAILTO:sdds@sdds.org
END:VEVENT
BEGIN:VEVENT
DTSTART;TZID=America/Los_Angeles:20251111T174500
DTEND;TZID=America/Los_Angeles:20251111T210000
DTSTAMP:20260423T025549
CREATED:20250121T190001Z
LAST-MODIFIED:20250129T191547Z
UID:10000722-1762883100-1762894800@www.cda.org
SUMMARY:Anesthesia in Your Office - Everything You Need to Know
DESCRIPTION:
URL:https://www.cda.org/event-details/anesthesia-in-your-office-everything-you-need-to-know/
LOCATION:Hilton Sacramento Arden West\, 2200 Harvard Street\, Sacramento\, California\, 95815\, United States
CATEGORIES:Affiliate In-Person Event
ORGANIZER;CN="Sacramento District Dental Society":MAILTO:sdds@sdds.org
END:VEVENT
BEGIN:VEVENT
DTSTART;TZID=America/Los_Angeles:20251014T174500
DTEND;TZID=America/Los_Angeles:20251014T210000
DTSTAMP:20260423T025549
CREATED:20250121T185859Z
LAST-MODIFIED:20250129T191357Z
UID:10000721-1760463900-1760475600@www.cda.org
SUMMARY:Working Together to Improve the Oral Health in California
DESCRIPTION:
URL:https://www.cda.org/event-details/working-together-to-improve-the-oral-health-in-california/
LOCATION:Hilton Sacramento Arden West\, 2200 Harvard Street\, Sacramento\, California\, 95815\, United States
CATEGORIES:Affiliate In-Person Event
ORGANIZER;CN="Sacramento District Dental Society":MAILTO:sdds@sdds.org
END:VEVENT
BEGIN:VEVENT
DTSTART;TZID=America/Los_Angeles:20250909T174500
DTEND;TZID=America/Los_Angeles:20250909T210000
DTSTAMP:20260423T025549
CREATED:20250121T185731Z
LAST-MODIFIED:20250129T190955Z
UID:10000720-1757439900-1757451600@www.cda.org
SUMMARY:Does CR Matter?
DESCRIPTION:
URL:https://www.cda.org/event-details/does-cr-matter/
LOCATION:Hilton Sacramento Arden West\, 2200 Harvard Street\, Sacramento\, California\, 95815\, United States
CATEGORIES:Affiliate In-Person Event
ORGANIZER;CN="Sacramento District Dental Society":MAILTO:sdds@sdds.org
END:VEVENT
BEGIN:VEVENT
DTSTART;TZID=America/Los_Angeles:20250513T174500
DTEND;TZID=America/Los_Angeles:20250513T210000
DTSTAMP:20260423T025549
CREATED:20250121T184121Z
LAST-MODIFIED:20250129T185459Z
UID:10000713-1747158300-1747170000@www.cda.org
SUMMARY:The Clear Straight Story
DESCRIPTION:In this course\, Dr. Holt will share invaluable insights into integrating clear aligner therapy seamlessly into your practice. Participants will learn how to optimize treatment outcomes and minimize treatment duration using aligner software and attachment techniques\, ensuring exceptional results for patients. \n\n\n\nLearning objectives: \n\n\n\n\nCase refinement that gets the case DONE\n\n\n\nREDUCING treatment time\n\n\n\nEXAGGERATE movements or fail
URL:https://www.cda.org/event-details/the-clear-straight-story/
LOCATION:Hilton Sacramento Arden West\, 2200 Harvard Street\, Sacramento\, California\, 95815\, United States
CATEGORIES:Affiliate In-Person Event
ORGANIZER;CN="Sacramento District Dental Society":MAILTO:sdds@sdds.org
END:VEVENT
BEGIN:VEVENT
DTSTART;TZID=America/Los_Angeles:20250408T174500
DTEND;TZID=America/Los_Angeles:20250408T210000
DTSTAMP:20260423T025549
CREATED:20250121T182425Z
LAST-MODIFIED:20250129T172117Z
UID:10000708-1744134300-1744146000@www.cda.org
SUMMARY:Effective Techniques on How to Work with Special Needs Patients
DESCRIPTION:
URL:https://www.cda.org/event-details/effective-techniques-on-how-to-work-with-special-needs-patients/
LOCATION:Hilton Sacramento Arden West\, 2200 Harvard Street\, Sacramento\, California\, 95815\, United States
CATEGORIES:Affiliate In-Person Event
ORGANIZER;CN="Sacramento District Dental Society":MAILTO:sdds@sdds.org
END:VEVENT
BEGIN:VEVENT
DTSTART;TZID=America/Los_Angeles:20250311T174500
DTEND;TZID=America/Los_Angeles:20250311T210000
DTSTAMP:20260423T025549
CREATED:20250121T172833Z
LAST-MODIFIED:20250129T165232Z
UID:10000703-1741715100-1741726800@www.cda.org
SUMMARY:Goodbye GV Black! Embracing Contemporary Composites in the Modern Era
DESCRIPTION:Dentistry has been using composite resin as a restorative material for the past 50 years but are we maximizing the success of our restorations. When we are taught in school to prepare a tooth\, we use the principles set down by GV Black. These principles are based on a completely different material. We will discuss an approach that is designed for composite. \n\n\n\nLearning Objectives: \n\n\n\n\nLearn new techniques in restoring a preparation with composite resin.\n\n\n\nUnderstand how our preparation style and techniques needs to adapt to the properties of the material.\n\n\n\nLearn how changing the properties of the composite can benefit our restoration.
URL:https://www.cda.org/event-details/goodbye-gv-black-embracing-contemporary-composites-in-the-modern-era/
LOCATION:Hilton Sacramento Arden West\, 2200 Harvard Street\, Sacramento\, California\, 95815\, United States
CATEGORIES:Affiliate In-Person Event
ORGANIZER;CN="Sacramento District Dental Society":MAILTO:sdds@sdds.org
END:VEVENT
BEGIN:VEVENT
DTSTART;TZID=America/Los_Angeles:20250114T174500
DTEND;TZID=America/Los_Angeles:20250114T210000
DTSTAMP:20260423T025549
CREATED:20250117T224214Z
LAST-MODIFIED:20250129T170714Z
UID:10000661-1736876700-1736888400@www.cda.org
SUMMARY:15 on 15: 15 Minutes\, 15 Slides; Multi-Topic Pearls…Insights Across Specialties
DESCRIPTION:Amanda Chen\, DDSOrthodontic Relapse and RetentionThe Hollywood movie tagline “Happily Ever After” does not seem to apply to orthodontic treatment. Many occlusal changes after orthodontic treatment can occur within the first few months to years after as a part of physiologic changes of aging. A short discussion of common presentation of relapse\, causes of relapse\, recommended retention protocol will be presented. \n\n\n\nJeffrey Delgadillo\, DDSThird Molars: What You Need to KnowDo you ever find yourself wondering why Oral Surgeons want all wisdom teeth out? We will discuss clinically significant evaluation\, diagnosis\, treatment planning\, and risk stratification surrounding third molars. The goal is understanding how to work as a team to avoid unnecessary complications. \n\n\n\nEstella Kim\, DDSIntegrating In-office Sedation and General AnesthesiaWhat now? When the patient is too anxious or uncooperative to complete treatment\, what options are available? We will discuss the different levels of anesthesia available\, patient selection and criteria\, and what additional equipment or certifications an office needs to provide general anesthesia in-office. \n\n\n\nRichard Knight\, DDS\, MSThe Basics of Frenectomies in ChildrenThe tongue and lips play an intricate role in nursing/eating\, speech\, breathing\, and oral cleansing. When these processes are lacking in some way\, dental professionals must consider the possibility that the mobility of oral structures could be hindered. This short talk will give you the confidence to recognize a lip or tongue tie\, and teach you how to proceed with treatment to maximize success.
URL:https://www.cda.org/event-details/15-on-15-15-minutes-15-slides-multi-topic-pearlsinsights-across-specialties/
LOCATION:Hilton Sacramento Arden West\, 2200 Harvard Street\, Sacramento\, California\, 95815\, United States
CATEGORIES:Affiliate In-Person Event
ORGANIZER;CN="Sacramento District Dental Society":MAILTO:sdds@sdds.org
END:VEVENT
BEGIN:VEVENT
DTSTART;TZID=America/Los_Angeles:20241112T174500
DTEND;TZID=America/Los_Angeles:20241112T210000
DTSTAMP:20260423T025549
CREATED:20240405T162517Z
LAST-MODIFIED:20240827T173626Z
UID:10000412-1731433500-1731445200@www.cda.org
SUMMARY:Dental Implants: Proceed with Caution!
DESCRIPTION:This lecture will review the various clinical situations presented to the dental implant surgeon and the decision tree that should be followed\, to gain the most ideal post-placement outcomes. We will discuss surgical techniques and hard and soft tissue considerations when navigating through these cases. Vital for many of these cases and the final prosthetic results\, are surgical guides. We will cover the use and fabrication of surgical guides to make surgical outcomes more predictable.
URL:https://www.cda.org/event-details/general-mtg-immediate-early-or-late-implant-placement-considerations-and-techniques-for-optimal-results/
LOCATION:Hilton Sacramento Arden West\, 2200 Harvard Street\, Sacramento\, California\, 95815\, United States
CATEGORIES:Affiliate In-Person Event
ORGANIZER;CN="Sacramento District Dental Society":MAILTO:sdds@sdds.org
END:VEVENT
BEGIN:VEVENT
DTSTART;TZID=America/Los_Angeles:20241008T174500
DTEND;TZID=America/Los_Angeles:20241008T210000
DTSTAMP:20260423T025549
CREATED:20240405T161510Z
LAST-MODIFIED:20240405T161516Z
UID:10000411-1728409500-1728421200@www.cda.org
SUMMARY:General Mtg: The Many Myths of Pediatric Dentistry
DESCRIPTION:We do what we were taught in dental school despite time and research passing us by. We sometimes jump on the bandwagon because something sounds good but may be of dubious scientific backing. In this presentation\, we’ll look at commonly held but not scientifically based myths in kid’s dentistry that have been perpetuated by dentists and the “Lay” media for years (including many old wives’ tales). We’ll look at the difference between common sense\, science\, and factless fantasy. \n\n\n\nLearning Objectives: \n\n\n\n\nLearn how to read and evaluate literature and critically assess what we have been taught\n\n\n\nIncorporate valid science into our treatment planning and procedures\n\n\n\nDoes teething exist?\n\n\n\nFrenectomy\, Frenotomy\, Frenuloplasty – what does it mean?\n\n\n\nBruxing and grinding? He must be stressed\n\n\n\nDo we really have to block him?
URL:https://www.cda.org/event-details/general-mtg-the-many-myths-of-pediatric-dentistry/
LOCATION:Hilton Sacramento Arden West\, 2200 Harvard Street\, Sacramento\, California\, 95815\, United States
CATEGORIES:Affiliate In-Person Event
ORGANIZER;CN="Sacramento District Dental Society":MAILTO:sdds@sdds.org
END:VEVENT
BEGIN:VEVENT
DTSTART;TZID=America/Los_Angeles:20240910T174500
DTEND;TZID=America/Los_Angeles:20240910T210000
DTSTAMP:20260423T025549
CREATED:20240405T161132Z
LAST-MODIFIED:20240827T164835Z
UID:10000410-1725990300-1726002000@www.cda.org
SUMMARY:General Mtg: My Scanner is Better than Yours
DESCRIPTION:Digital Dilemma: Intra-oral scannersIn the rapidly evolving field of digital dentistry\, more and more scanners are coming to market. How are these scanners different? How are they the same? Are certain scanners better for certain procedures? Most of all\, if you own a scanner\, are you using it to its fullest capacity? This throwdown features some of the most popular scanners on the market and will answer many of the questions that continually are asked. \n\n\n\nLearning Objectives:• Discover a scanner’s functionality\, accuracy and opportunities• Compare the scanner’s specifics such as lifespan\, investment cost and training time• Learn how to take the fear out of using a scanner and how it can affect your office workflow
URL:https://www.cda.org/event-details/general-mtg-my-scanner-is-better-than-yours/
LOCATION:Hilton Sacramento Arden West\, 2200 Harvard Street\, Sacramento\, California\, 95815\, United States
CATEGORIES:Affiliate In-Person Event
ORGANIZER;CN="Sacramento District Dental Society":MAILTO:sdds@sdds.org
END:VEVENT
BEGIN:VEVENT
DTSTART;TZID=America/Los_Angeles:20240514T174500
DTEND;TZID=America/Los_Angeles:20240514T210000
DTSTAMP:20260423T025549
CREATED:20240109T190352Z
LAST-MODIFIED:20240404T191540Z
UID:10000056-1715708700-1715720400@www.cda.org
SUMMARY:Forensic Files: IDs\, Records and Rewards
DESCRIPTION:This course will discuss multiple forensic cases from the coroner’s office. It will be shown how the identifications were made through dental records. The need for keeping accurate dental records will be made apparent. The presentation will culminate by answering the question of why this work is vital to the coroner’s office and the families involved. \n\n\n\nLearning Objectives: \n\n\n\n\nHow a dental identification is made\n\n\n\nWhich dental records are important\, and why\n\n\n\nHow this work helps our communities
URL:https://www.cda.org/event-details/forensic-files-ids-records-and-rewards/
LOCATION:Hilton Sacramento Arden West\, 2200 Harvard Street\, Sacramento\, California\, 95815\, United States
CATEGORIES:Affiliate In-Person Event
ORGANIZER;CN="Sacramento District Dental Society":MAILTO:sdds@sdds.org
END:VEVENT
BEGIN:VEVENT
DTSTART;TZID=America/Los_Angeles:20240409T174500
DTEND;TZID=America/Los_Angeles:20240409T210000
DTSTAMP:20260423T025549
CREATED:20240109T203852Z
LAST-MODIFIED:20240404T191824Z
UID:10000064-1712684700-1712696400@www.cda.org
SUMMARY:Can You Believe What You See? A Diagnostic Approach To Occlusal Anomalies
DESCRIPTION:Occlusion anomalies can be a particularly difficult diagnostic and treatment scenario that will be explored in this presentation. Evaluating\, establishing and maintaining an orthopedically stable occlusion is a foundation piece for the dental practitioner. The interaction of muscles\, teeth\, jaws and TMJs will be explored with the use of imaging. Key anatomic variables that negatively influence occlusion will be singled out and discussed in this presentation. \n\n\n\nLearning Objectives: \n\n\n\n\nDevelop a differential diagnosis and decision tree for investigating occlusal anomalies.\n\n\n\nYou will know and apply discriminating features of the various occlusal anomalies.\n\n\n\nYou will know how to determine if an occlusal anomaly is progressive.
URL:https://www.cda.org/event-details/can-you-believe-what-you-see-a-diagnostic-approach-to-occlusial-anomalies/
LOCATION:Hilton Sacramento Arden West\, 2200 Harvard Street\, Sacramento\, California\, 95815\, United States
CATEGORIES:Affiliate In-Person Event
ORGANIZER;CN="Sacramento District Dental Society":MAILTO:sdds@sdds.org
END:VEVENT
BEGIN:VEVENT
DTSTART;TZID=America/Los_Angeles:20240312T174500
DTEND;TZID=America/Los_Angeles:20240312T210000
DTSTAMP:20260423T025549
CREATED:20240110T211146Z
LAST-MODIFIED:20240110T211148Z
UID:10000078-1710265500-1710277200@www.cda.org
SUMMARY:Understanding Immediate Load Full Arch Prostheses: From Tried and True to Emerging Technologies
DESCRIPTION:Course description coming soon.
URL:https://www.cda.org/event-details/understanding-immediate-load-full-arch-prostheses-from-tried-and-true-to-emerging-technologies/
LOCATION:Hilton Sacramento Arden West\, 2200 Harvard Street\, Sacramento\, California\, 95815\, United States
CATEGORIES:Affiliate In-Person Event
ORGANIZER;CN="Sacramento District Dental Society":MAILTO:sdds@sdds.org
END:VEVENT
END:VCALENDAR