BEGIN:VCALENDAR
VERSION:2.0
PRODID:-//CDA - ECPv6.15.11//NONSGML v1.0//EN
CALSCALE:GREGORIAN
METHOD:PUBLISH
X-ORIGINAL-URL:https://www.cda.org
X-WR-CALDESC:Events for CDA
REFRESH-INTERVAL;VALUE=DURATION:PT1H
X-Robots-Tag:noindex
X-PUBLISHED-TTL:PT1H
BEGIN:VTIMEZONE
TZID:America/Los_Angeles
BEGIN:DAYLIGHT
TZOFFSETFROM:-0800
TZOFFSETTO:-0700
TZNAME:PDT
DTSTART:20240310T100000
END:DAYLIGHT
BEGIN:STANDARD
TZOFFSETFROM:-0700
TZOFFSETTO:-0800
TZNAME:PST
DTSTART:20241103T090000
END:STANDARD
BEGIN:DAYLIGHT
TZOFFSETFROM:-0800
TZOFFSETTO:-0700
TZNAME:PDT
DTSTART:20250309T100000
END:DAYLIGHT
BEGIN:STANDARD
TZOFFSETFROM:-0700
TZOFFSETTO:-0800
TZNAME:PST
DTSTART:20251102T090000
END:STANDARD
BEGIN:DAYLIGHT
TZOFFSETFROM:-0800
TZOFFSETTO:-0700
TZNAME:PDT
DTSTART:20260308T100000
END:DAYLIGHT
BEGIN:STANDARD
TZOFFSETFROM:-0700
TZOFFSETTO:-0800
TZNAME:PST
DTSTART:20261101T090000
END:STANDARD
BEGIN:DAYLIGHT
TZOFFSETFROM:-0800
TZOFFSETTO:-0700
TZNAME:PDT
DTSTART:20270314T100000
END:DAYLIGHT
BEGIN:STANDARD
TZOFFSETFROM:-0700
TZOFFSETTO:-0800
TZNAME:PST
DTSTART:20271107T090000
END:STANDARD
END:VTIMEZONE
BEGIN:VEVENT
DTSTART;TZID=America/Los_Angeles:20260206T120000
DTEND;TZID=America/Los_Angeles:20260206T133000
DTSTAMP:20260421T124823
CREATED:20260122T182412Z
LAST-MODIFIED:20260123T204025Z
UID:10001287-1770379200-1770384600@www.cda.org
SUMMARY:CNSU Lunch and Learn " The People Side of Dentistry"
DESCRIPTION:This course will discuss challenging patient management situations and cover how to effectively maneuver through the challenges utilizing conflict management processes. \n\n\n\nTopic Area: Practice management \n\n\n\nTarget audience: D1\, D2\, D3\, D4 \n\n\n\nLearning Objectives: \n\n\n\n\nLearn how to work through conflict resolution with patients.\n\n\n\nDiscuss best practices and laws around managing poor online reviews.\n\n\n\nLearn how to identify red flags
URL:https://www.cda.org/event-details/cnsu-lunch-and-learn-the-people-side-of-dentistry/
LOCATION:CNSU Downtown Sacramento\, 2200 X Street\, Sacramento\, CA\, 95818\, United States
CATEGORIES:CDA In-Person Event
END:VEVENT
BEGIN:VEVENT
DTSTART;TZID=America/Los_Angeles:20250710T150000
DTEND;TZID=America/Los_Angeles:20250710T160000
DTSTAMP:20260421T124823
CREATED:20250626T224712Z
LAST-MODIFIED:20250626T224714Z
UID:10001066-1752159600-1752163200@www.cda.org
SUMMARY:CNSU Freshmen Orientation
DESCRIPTION:Freshman Orientation is CDA’s first touchpoint with dental students. CDA\, TDIC and the local dental society provide a one-hour orientation presentation focused on educating incoming dental students about organized dentistry. Content includes the main benefits of membership for students and new graduates\, as well as events and activities to engage with while they are students.
URL:https://www.cda.org/event-details/cnsu-freshmen-orientation/
LOCATION:CNSU Downtown Sacramento\, 2200 X Street\, Sacramento\, CA\, 95818\, United States
CATEGORIES:CDA In-Person Event
END:VEVENT
BEGIN:VEVENT
DTSTART;TZID=America/Los_Angeles:20250512T000000
DTEND;TZID=America/Los_Angeles:20250512T235959
DTSTAMP:20260421T124823
CREATED:20250414T180311Z
LAST-MODIFIED:20250414T180313Z
UID:10001052-1747008000-1747094399@www.cda.org
SUMMARY:CNSU Senior Swag Day
DESCRIPTION:Senior Swag Day is CDA’s last touchpoint with dental students at CA dental Schools. CDA\, TDIC\, and the local dental society provide swag and inform graduating students about organized dentistry as they transition into licensed dentists. We aim to have the graduating students update their student applications so we can stay connected and provide them with aseamless transition into practice.
URL:https://www.cda.org/event-details/cnsu-senior-swag-day/
LOCATION:CNSU Downtown Sacramento\, 2200 X Street\, Sacramento\, CA\, 95818\, United States
CATEGORIES:CDA In-Person Event
END:VEVENT
END:VCALENDAR