BEGIN:VCALENDAR
VERSION:2.0
PRODID:-//CDA - ECPv6.15.11//NONSGML v1.0//EN
CALSCALE:GREGORIAN
METHOD:PUBLISH
X-ORIGINAL-URL:https://www.cda.org
X-WR-CALDESC:Events for CDA
REFRESH-INTERVAL;VALUE=DURATION:PT1H
X-Robots-Tag:noindex
X-PUBLISHED-TTL:PT1H
BEGIN:VTIMEZONE
TZID:America/Los_Angeles
BEGIN:DAYLIGHT
TZOFFSETFROM:-0800
TZOFFSETTO:-0700
TZNAME:PDT
DTSTART:20240310T100000
END:DAYLIGHT
BEGIN:STANDARD
TZOFFSETFROM:-0700
TZOFFSETTO:-0800
TZNAME:PST
DTSTART:20241103T090000
END:STANDARD
BEGIN:DAYLIGHT
TZOFFSETFROM:-0800
TZOFFSETTO:-0700
TZNAME:PDT
DTSTART:20250309T100000
END:DAYLIGHT
BEGIN:STANDARD
TZOFFSETFROM:-0700
TZOFFSETTO:-0800
TZNAME:PST
DTSTART:20251102T090000
END:STANDARD
BEGIN:DAYLIGHT
TZOFFSETFROM:-0800
TZOFFSETTO:-0700
TZNAME:PDT
DTSTART:20260308T100000
END:DAYLIGHT
BEGIN:STANDARD
TZOFFSETFROM:-0700
TZOFFSETTO:-0800
TZNAME:PST
DTSTART:20261101T090000
END:STANDARD
END:VTIMEZONE
BEGIN:VEVENT
DTSTART;TZID=America/Los_Angeles:20251204T180000
DTEND;TZID=America/Los_Angeles:20251204T200000
DTSTAMP:20260419T084509
CREATED:20250312T211810Z
LAST-MODIFIED:20250312T211813Z
UID:10000978-1764871200-1764878400@www.cda.org
SUMMARY:Cocktails & Conversations
DESCRIPTION:
URL:https://www.cda.org/event-details/cocktails-conversations-3/
CATEGORIES:Affiliate In-Person Event
ORGANIZER;CN="San Francisco Dental Society":MAILTO:exec@sfds.org
END:VEVENT
BEGIN:VEVENT
DTSTART;TZID=America/Los_Angeles:20251118T180000
DTEND;TZID=America/Los_Angeles:20251118T193000
DTSTAMP:20260419T084509
CREATED:20250312T211205Z
LAST-MODIFIED:20250313T213137Z
UID:10000974-1763488800-1763494200@www.cda.org
SUMMARY:CPR AHA Hybrid Renewal for Healthcare Providers
DESCRIPTION:Complete your CPR renewal requirement with our American Heart Association’s Blended eLearning course. This hybrid course allows you to complete much of the CPR training online\, with a smaller portion in-person.
URL:https://www.cda.org/event-details/cpr-aha-hybrid-renewal-for-healthcare-providers-6/
LOCATION:San Francisco Dental Society\, 2143 Lombard Street\, San Francisco\, CA\, 94123\, United States
CATEGORIES:Affiliate In-Person Event
ORGANIZER;CN="San Francisco Dental Society":MAILTO:exec@sfds.org
END:VEVENT
BEGIN:VEVENT
DTSTART;TZID=America/Los_Angeles:20251021T180000
DTEND;TZID=America/Los_Angeles:20251021T193000
DTSTAMP:20260419T084509
CREATED:20250312T211125Z
LAST-MODIFIED:20250313T213108Z
UID:10000973-1761069600-1761075000@www.cda.org
SUMMARY:CPR AHA Hybrid Renewal for Healthcare Providers
DESCRIPTION:Complete your CPR renewal requirement with our American Heart Association’s Blended eLearning course. This hybrid course allows you to complete much of the CPR training online\, with a smaller portion in-person.
URL:https://www.cda.org/event-details/cpr-aha-hybrid-renewal-for-healthcare-providers-5/
LOCATION:San Francisco Dental Society\, 2143 Lombard Street\, San Francisco\, CA\, 94123\, United States
CATEGORIES:Affiliate In-Person Event
ORGANIZER;CN="San Francisco Dental Society":MAILTO:exec@sfds.org
END:VEVENT
BEGIN:VEVENT
DTSTART;TZID=America/Los_Angeles:20250923T180000
DTEND;TZID=America/Los_Angeles:20250923T193000
DTSTAMP:20260419T084509
CREATED:20250312T211044Z
LAST-MODIFIED:20250313T213113Z
UID:10000972-1758650400-1758655800@www.cda.org
SUMMARY:CPR AHA Hybrid Renewal for Healthcare Providers
DESCRIPTION:Complete your CPR renewal requirement with our American Heart Association’s Blended eLearning course. This hybrid course allows you to complete much of the CPR training online\, with a smaller portion in-person.
URL:https://www.cda.org/event-details/cpr-aha-hybrid-renewal-for-healthcare-providers-4/
LOCATION:San Francisco Dental Society\, 2143 Lombard Street\, San Francisco\, CA\, 94123\, United States
CATEGORIES:Affiliate In-Person Event
ORGANIZER;CN="San Francisco Dental Society":MAILTO:exec@sfds.org
END:VEVENT
BEGIN:VEVENT
DTSTART;TZID=America/Los_Angeles:20250918T180000
DTEND;TZID=America/Los_Angeles:20250918T200000
DTSTAMP:20260419T084509
CREATED:20250312T211548Z
LAST-MODIFIED:20250312T211747Z
UID:10000977-1758218400-1758225600@www.cda.org
SUMMARY:Cocktails & Conversations
DESCRIPTION:
URL:https://www.cda.org/event-details/cocktails-conversations-2/
CATEGORIES:Affiliate In-Person Event
ORGANIZER;CN="San Francisco Dental Society":MAILTO:exec@sfds.org
END:VEVENT
BEGIN:VEVENT
DTSTART;TZID=America/Los_Angeles:20250826T180000
DTEND;TZID=America/Los_Angeles:20250826T193000
DTSTAMP:20260419T084509
CREATED:20250313T213026Z
LAST-MODIFIED:20250313T213028Z
UID:10001005-1756231200-1756236600@www.cda.org
SUMMARY:CPR AHA Hybrid Renewal for Healthcare Providers
DESCRIPTION:Complete your CPR renewal requirement with our American Heart Association’s Blended eLearning course. This hybrid course allows you to complete much of the CPR training online\, with a smaller portion in-person.
URL:https://www.cda.org/event-details/cpr-aha-hybrid-renewal-for-healthcare-providers-7/
LOCATION:San Francisco Dental Society\, 2143 Lombard Street\, San Francisco\, CA\, 94123\, United States
CATEGORIES:Affiliate In-Person Event
ORGANIZER;CN="San Francisco Dental Society":MAILTO:exec@sfds.org
END:VEVENT
BEGIN:VEVENT
DTSTART;TZID=America/Los_Angeles:20250723T180000
DTEND;TZID=America/Los_Angeles:20250723T201500
DTSTAMP:20260419T084509
CREATED:20250311T230652Z
LAST-MODIFIED:20250311T230654Z
UID:10000927-1753293600-1753301700@www.cda.org
SUMMARY:Study Club: Hands On - Emergency Medicine for Every Dental Office
DESCRIPTION:SFDS Study Club in 2025! The Study Club is an exciting opportunity for both the new and more seasoned practitioner to learn from colleagues and peers in a small\, discussion and case-based format.
URL:https://www.cda.org/event-details/study-club-hands-on-emergency-medicine-for-every-dental-office/
LOCATION:San Francisco Dental Society\, 2143 Lombard Street\, San Francisco\, CA\, 94123\, United States
CATEGORIES:Affiliate In-Person Event
ORGANIZER;CN="San Francisco Dental Society":MAILTO:exec@sfds.org
END:VEVENT
BEGIN:VEVENT
DTSTART;TZID=America/Los_Angeles:20250625T180000
DTEND;TZID=America/Los_Angeles:20250625T201500
DTSTAMP:20260419T084509
CREATED:20250312T215013Z
LAST-MODIFIED:20250312T215015Z
UID:10000987-1750874400-1750882500@www.cda.org
SUMMARY:Study Club: Hands On - Bioclear
DESCRIPTION:SFDS Study Club in 2025! The Study Club is an exciting opportunity for both the new and more seasoned practitioner to learn from colleagues and peers in a small\, discussion and case-based format.
URL:https://www.cda.org/event-details/study-club-hands-on-bioclear/
LOCATION:San Francisco Dental Society\, 2143 Lombard Street\, San Francisco\, CA\, 94123\, United States
CATEGORIES:Affiliate In-Person Event
ORGANIZER;CN="San Francisco Dental Society":MAILTO:exec@sfds.org
END:VEVENT
BEGIN:VEVENT
DTSTART;TZID=America/Los_Angeles:20250529T180000
DTEND;TZID=America/Los_Angeles:20250529T200000
DTSTAMP:20260419T084509
CREATED:20250312T205423Z
LAST-MODIFIED:20250312T205425Z
UID:10000966-1748541600-1748548800@www.cda.org
SUMMARY:Cocktails & Conversations
DESCRIPTION:Cocktails and conversations hosted by the San Francisco Dental Society
URL:https://www.cda.org/event-details/cocktails-conversations/
CATEGORIES:Affiliate In-Person Event
ORGANIZER;CN="San Francisco Dental Society":MAILTO:exec@sfds.org
END:VEVENT
BEGIN:VEVENT
DTSTART;TZID=America/Los_Angeles:20250520T180000
DTEND;TZID=America/Los_Angeles:20250520T193000
DTSTAMP:20260419T084509
CREATED:20250312T204552Z
LAST-MODIFIED:20250313T213031Z
UID:10000965-1747764000-1747769400@www.cda.org
SUMMARY:CPR AHA Hybrid Renewal for Healthcare Providers
DESCRIPTION:Complete your CPR renewal requirement with our American Heart Association’s Blended eLearning course. This hybrid course allows you to complete much of the CPR training online\, with a smaller portion in-person.
URL:https://www.cda.org/event-details/cpr-aha-hybrid-renewal-for-healthcare-providers-3/
LOCATION:San Francisco Dental Society\, 2143 Lombard Street\, San Francisco\, CA\, 94123\, United States
CATEGORIES:Affiliate In-Person Event
ORGANIZER;CN="San Francisco Dental Society":MAILTO:exec@sfds.org
END:VEVENT
BEGIN:VEVENT
DTSTART;TZID=America/Los_Angeles:20250422T180000
DTEND;TZID=America/Los_Angeles:20250422T193000
DTSTAMP:20260419T084509
CREATED:20250311T225517Z
LAST-MODIFIED:20250313T212929Z
UID:10000920-1745344800-1745350200@www.cda.org
SUMMARY:CPR AHA Hybrid Renewal for Healthcare Providers
DESCRIPTION:Complete your CPR renewal requirement with our American Heart Association’s Blended eLearning course. This hybrid course allows you to complete much of the CPR training online\, with a smaller portion in-person.
URL:https://www.cda.org/event-details/cpr-aha-hybrid-renewal-for-healthcare-providers-2/
LOCATION:San Francisco Dental Society\, 2143 Lombard Street\, San Francisco\, CA\, 94123\, United States
CATEGORIES:Affiliate In-Person Event
ORGANIZER;CN="San Francisco Dental Society":MAILTO:exec@sfds.org
END:VEVENT
BEGIN:VEVENT
DTSTART;TZID=America/Los_Angeles:20250416T180000
DTEND;TZID=America/Los_Angeles:20250416T201500
DTSTAMP:20260419T084509
CREATED:20250311T224048Z
LAST-MODIFIED:20250311T224050Z
UID:10000917-1744826400-1744834500@www.cda.org
SUMMARY:Study Club: Cardiovascular Risk Assessment and Management
DESCRIPTION:SFDS Study Club in 2025! The Study Club is an exciting opportunity for both the new and more seasoned practitioner to learn from colleagues and peers in a small\, discussion and case-based format.
URL:https://www.cda.org/event-details/study-club-cardiovascular-risk-assessment-and-management/
LOCATION:San Francisco Dental Society\, 2143 Lombard Street\, San Francisco\, CA\, 94123\, United States
CATEGORIES:Affiliate In-Person Event
ORGANIZER;CN="San Francisco Dental Society":MAILTO:exec@sfds.org
END:VEVENT
BEGIN:VEVENT
DTSTART;TZID=America/Los_Angeles:20250326T180000
DTEND;TZID=America/Los_Angeles:20250326T200000
DTSTAMP:20260419T084509
CREATED:20250311T182913Z
LAST-MODIFIED:20250313T211914Z
UID:10000894-1743012000-1743019200@www.cda.org
SUMMARY:Getting Off The Dental Treadmill: How to Avoid Burnout with a Busy Life & Career
DESCRIPTION:Dr. Marracino Brown’s Presentation will focus on understanding what causes burnout and how we can treat/avoid it. We are taught that if we scale back our clinical days or take more vacations\, that will do the trick. But will it? Get to the underlying causes of burnout so that you can gain more control\, balance\, and peace\, both within your practice life as well as outside
URL:https://www.cda.org/event-details/getting-off-the-dental-treadmill-how-to-avoid-burnout-with-a-busy-life-career-3/
LOCATION:Online Webinar
CATEGORIES:Affiliate Virtual Event
ORGANIZER;CN="San Francisco Dental Society":MAILTO:exec@sfds.org
END:VEVENT
BEGIN:VEVENT
DTSTART;TZID=America/Los_Angeles:20250325T180000
DTEND;TZID=America/Los_Angeles:20250325T193000
DTSTAMP:20260419T084509
CREATED:20250311T180047Z
LAST-MODIFIED:20250313T211937Z
UID:10000890-1742925600-1742931000@www.cda.org
SUMMARY:CPR AHA Hybrid Renewal for Healthcare Providers
DESCRIPTION:Complete your CPR renewal requirement with our American Heart Association’s Blended eLearning course. This hybrid course allows you to complete much of the CPR training online\, with a smaller portion in-person.
URL:https://www.cda.org/event-details/cpr-aha-hybrid-renewal-for-healthcare-providers/
LOCATION:San Francisco Dental Society\, 2143 Lombard Street\, San Francisco\, CA\, 94123\, United States
CATEGORIES:Affiliate In-Person Event
ORGANIZER;CN="San Francisco Dental Society":MAILTO:exec@sfds.org
END:VEVENT
BEGIN:VEVENT
DTSTART;TZID=America/Los_Angeles:20250319T180000
DTEND;TZID=America/Los_Angeles:20250319T201500
DTSTAMP:20260419T084509
CREATED:20250311T172158Z
LAST-MODIFIED:20250313T211949Z
UID:10000882-1742407200-1742415300@www.cda.org
SUMMARY:Resorption Defects - Uncovering the Mystery
DESCRIPTION:The Study Club is an exciting opportunity for both the new and more seasoned practitioner to learn from colleagues and peers in a small\, discussion and case-based format.
URL:https://www.cda.org/event-details/resorption-defects-uncovering-the-mystery/
LOCATION:San Francisco Dental Society\, 2143 Lombard Street\, San Francisco\, CA\, 94123\, United States
CATEGORIES:Affiliate In-Person Event
ORGANIZER;CN="San Francisco Dental Society":MAILTO:exec@sfds.org
END:VEVENT
END:VCALENDAR