BEGIN:VCALENDAR
VERSION:2.0
PRODID:-//CDA - ECPv6.15.11//NONSGML v1.0//EN
CALSCALE:GREGORIAN
METHOD:PUBLISH
X-ORIGINAL-URL:https://www.cda.org
X-WR-CALDESC:Events for CDA
REFRESH-INTERVAL;VALUE=DURATION:PT1H
X-Robots-Tag:noindex
X-PUBLISHED-TTL:PT1H
BEGIN:VTIMEZONE
TZID:America/Los_Angeles
BEGIN:DAYLIGHT
TZOFFSETFROM:-0800
TZOFFSETTO:-0700
TZNAME:PDT
DTSTART:20250309T100000
END:DAYLIGHT
BEGIN:STANDARD
TZOFFSETFROM:-0700
TZOFFSETTO:-0800
TZNAME:PST
DTSTART:20251102T090000
END:STANDARD
BEGIN:DAYLIGHT
TZOFFSETFROM:-0800
TZOFFSETTO:-0700
TZNAME:PDT
DTSTART:20260308T100000
END:DAYLIGHT
BEGIN:STANDARD
TZOFFSETFROM:-0700
TZOFFSETTO:-0800
TZNAME:PST
DTSTART:20261101T090000
END:STANDARD
BEGIN:DAYLIGHT
TZOFFSETFROM:-0800
TZOFFSETTO:-0700
TZNAME:PDT
DTSTART:20270314T100000
END:DAYLIGHT
BEGIN:STANDARD
TZOFFSETFROM:-0700
TZOFFSETTO:-0800
TZNAME:PST
DTSTART:20271107T090000
END:STANDARD
END:VTIMEZONE
BEGIN:VEVENT
DTSTART;TZID=America/Los_Angeles:20260917T180000
DTEND;TZID=America/Los_Angeles:20260917T200000
DTSTAMP:20260425T170905
CREATED:20251215T215344Z
LAST-MODIFIED:20251215T215346Z
UID:10001193-1789668000-1789675200@www.cda.org
SUMMARY:Implant Crowns Are Not Teeth: Rethinking the Biological Connection
DESCRIPTION:Many clinicians approach implant crowns as direct replacements for teeth—but this mindset can lead to esthetic compromises\, biomechanical failures\, and long-term complications. In this compelling two-hour online course\, you’ll learn why implant restorations require a fundamentally different design approach. Dr. Stevenson\, an expert in evidence-based restorative protocols\, will guide you through the critical differences between tooth-borne and implant-supported prostheses\, and how to select the right abutment\, impression technique\, and material for each case. Whether you’re placing single units or restoring full arches\, this course will help you make biologically sound decisions that protect your patient’s investment—and your reputation.Learning Objectives:At the conclusion of this course\, participants will be able to:1. Evaluate how biological and biomechanical differences between teeth and implants influence restorative planning and design.2. Apply clinical decision-making principles to select abutments\, retention methods\, and materials that enhance long-term implant success.3. Design a workflow for implant crown delivery that emphasizes esthetics\, occlusion\, and long-term stability.
URL:https://www.cda.org/event-details/implant-crowns-are-not-teeth-rethinking-the-biological-connection/
LOCATION:Online Webinar
CATEGORIES:Affiliate Virtual Event
ATTACH;FMTTYPE=image/png:https://www.cda.org/wp-content/uploads/Implant_Crowns_are_Not_Teeth_Banner.png
END:VEVENT
BEGIN:VEVENT
DTSTART;TZID=America/Los_Angeles:20261020T180000
DTEND;TZID=America/Los_Angeles:20261020T200000
DTSTAMP:20260425T170905
CREATED:20251215T215512Z
LAST-MODIFIED:20251215T215515Z
UID:10001194-1792519200-1792526400@www.cda.org
SUMMARY:Demystifying the TMJ: Examination\, Diagnosis and Treatment – a Broad Overview
DESCRIPTION:This webinar explores internal derangement of the articular disk within the temporomandibular joint AND dysfunction in the muscles that surround and support the mandible\, as well as how these issues can (and often do) overlap. This webinar also reviews the anatomy of the joint and discuss how the various anatomical structures contribute to specific symptoms such as ear pain\, pain behind the eye\, headaches\, jaw pain\, neck pain\, popping/clicking and catching or actual locking of the joint. Diagnosis is broken down into a Specific treatment of these various symptoms are also reviewed as well as which patients experience this most commonly and why. Relation of TMJ disorders/TMD to tongue tie\, 4 bicuspid extraction/retraction orthodontia\, and sleep apnea will also be discussed.Objectives:1. Know which questions to ask and which signs/symptoms to look for to be able to discriminate between muscles and joint pathologies.2. Understand how to diagnose TMJ/TMD correctly.3. Understand what’s happening in the muscles/joints to cause specific symptoms4. Understand connection of TMJ disorders to sleep apnea\, bite\, and tongue tieKnow which cases to treat and which to refer
URL:https://www.cda.org/event-details/demystifying-the-tmj-examination-diagnosis-and-treatment-a-broad-overview/
LOCATION:Online Webinar
CATEGORIES:Affiliate Virtual Event
ATTACH;FMTTYPE=image/png:https://www.cda.org/wp-content/uploads/Demystifying_the_TMJ_Banner.png
END:VEVENT
END:VCALENDAR