BEGIN:VCALENDAR
VERSION:2.0
PRODID:-//CDA - ECPv6.15.11//NONSGML v1.0//EN
CALSCALE:GREGORIAN
METHOD:PUBLISH
X-ORIGINAL-URL:https://www.cda.org
X-WR-CALDESC:Events for CDA
REFRESH-INTERVAL;VALUE=DURATION:PT1H
X-Robots-Tag:noindex
X-PUBLISHED-TTL:PT1H
BEGIN:VTIMEZONE
TZID:America/Los_Angeles
BEGIN:DAYLIGHT
TZOFFSETFROM:-0800
TZOFFSETTO:-0700
TZNAME:PDT
DTSTART:20240310T100000
END:DAYLIGHT
BEGIN:STANDARD
TZOFFSETFROM:-0700
TZOFFSETTO:-0800
TZNAME:PST
DTSTART:20241103T090000
END:STANDARD
BEGIN:DAYLIGHT
TZOFFSETFROM:-0800
TZOFFSETTO:-0700
TZNAME:PDT
DTSTART:20250309T100000
END:DAYLIGHT
BEGIN:STANDARD
TZOFFSETFROM:-0700
TZOFFSETTO:-0800
TZNAME:PST
DTSTART:20251102T090000
END:STANDARD
BEGIN:DAYLIGHT
TZOFFSETFROM:-0800
TZOFFSETTO:-0700
TZNAME:PDT
DTSTART:20260308T100000
END:DAYLIGHT
BEGIN:STANDARD
TZOFFSETFROM:-0700
TZOFFSETTO:-0800
TZNAME:PST
DTSTART:20261101T090000
END:STANDARD
END:VTIMEZONE
BEGIN:VEVENT
DTSTART;TZID=America/Los_Angeles:20251113T173000
DTEND;TZID=America/Los_Angeles:20251113T213000
DTSTAMP:20260422T024827
CREATED:20250314T202703Z
LAST-MODIFIED:20250314T202706Z
UID:10001028-1763055000-1763069400@www.cda.org
SUMMARY:BLS/CPR Certification
DESCRIPTION:
URL:https://www.cda.org/event-details/bls-cpr-certification-2/
LOCATION:Monterey Bay Dental Society\, 8 Harris Court\, Suite A2\, Monterey\, CA\, 93940\, United States
CATEGORIES:Affiliate In-Person Event
END:VEVENT
BEGIN:VEVENT
DTSTART;TZID=America/Los_Angeles:20251106T180000
DTEND;TZID=America/Los_Angeles:20251106T201500
DTSTAMP:20260422T024827
CREATED:20250312T220532Z
LAST-MODIFIED:20250603T220728Z
UID:10000992-1762452000-1762460100@www.cda.org
SUMMARY:California Dental Practice Act & Ethics Update
DESCRIPTION:This ‘live’ CE Webinar reviews and updates the required DPA topics\, regulations\, and ethics\, including scope of practice\, drug prescribing\, licensure and qualifications\, supervision of auxiliaries\, professional conduct\, mandated reporting\, and consent. \n\n\n\n\n\n\n\n\n\nHarbor Dental Society Registration Link \n\n\n\nMonterey Bay Dental Society Registration Link
URL:https://www.cda.org/event-details/california-dental-practice-act-ethics-update/
LOCATION:Online Webinar
CATEGORIES:Affiliate Virtual Event
ORGANIZER;CN="Harbor Dental Society":MAILTO:Mak@HarborDentalSociety.org
END:VEVENT
BEGIN:VEVENT
DTSTART;TZID=America/Los_Angeles:20251104T180000
DTEND;TZID=America/Los_Angeles:20251104T211500
DTSTAMP:20260422T024827
CREATED:20250312T220346Z
LAST-MODIFIED:20250603T210527Z
UID:10000990-1762279200-1762290900@www.cda.org
SUMMARY:OSHA & Infection Control
DESCRIPTION:Harbor Dental Society Registration Link \n\n\n\nMonterey Bay Dental Society Registration Link
URL:https://www.cda.org/event-details/osha-infection-control-4/
LOCATION:Online Webinar
CATEGORIES:Affiliate Virtual Event
END:VEVENT
BEGIN:VEVENT
DTSTART;TZID=America/Los_Angeles:20251017T090000
DTEND;TZID=America/Los_Angeles:20251017T110000
DTSTAMP:20260422T024827
CREATED:20250314T202555Z
LAST-MODIFIED:20250314T202557Z
UID:10001027-1760691600-1760698800@www.cda.org
SUMMARY:Tips for Treatment Plan Acceptance
DESCRIPTION:
URL:https://www.cda.org/event-details/tips-for-treatment-plan-acceptance/
LOCATION:Monterey Bay Dental Society\, 8 Harris Court\, Suite A2\, Monterey\, CA\, 93940\, United States
CATEGORIES:Affiliate In-Person Event
END:VEVENT
BEGIN:VEVENT
DTSTART;TZID=America/Los_Angeles:20250916T180000
DTEND;TZID=America/Los_Angeles:20250916T200000
DTSTAMP:20260422T024827
CREATED:20250314T184443Z
LAST-MODIFIED:20250811T214632Z
UID:10001019-1758045600-1758052800@www.cda.org
SUMMARY:Responsibilities and Requirements of Prescribing Controlled Substances
DESCRIPTION:Explore pain management drug options for acute pain control. \n\n\n\n\n\n\n\n\n\n\n\nFresno Madera Dental Society Registration Link \n\n\n\nHarbor Dental Society Registration Link \n\n\n\nMonterey Bay Dental Society Registration Link
URL:https://www.cda.org/event-details/responsibilities-and-requirements-of-prescribing-controlled-substances/
LOCATION:Online Webinar
CATEGORIES:Affiliate Virtual Event
END:VEVENT
BEGIN:VEVENT
DTSTART;TZID=America/Los_Angeles:20250905T090000
DTEND;TZID=America/Los_Angeles:20250905T110000
DTSTAMP:20260422T024827
CREATED:20250314T185007Z
LAST-MODIFIED:20250314T185009Z
UID:10001022-1757062800-1757070000@www.cda.org
SUMMARY:Effective Team Leadership Strategies
DESCRIPTION:
URL:https://www.cda.org/event-details/effective-team-leadership-strategies/
LOCATION:Monterey Bay Dental Society\, 8 Harris Court\, Suite A2\, Monterey\, CA\, 93940\, United States
CATEGORIES:Affiliate In-Person Event
END:VEVENT
BEGIN:VEVENT
DTSTART;TZID=America/Los_Angeles:20250612T180000
DTEND;TZID=America/Los_Angeles:20250612T203000
DTSTAMP:20260422T024827
CREATED:20250311T231221Z
LAST-MODIFIED:20250311T231406Z
UID:10000930-1749751200-1749760200@www.cda.org
SUMMARY:BUNDLE – Socket Preservation\, Digital Full-Arch\, Full-Arch Restorative (Session 3 of 3)
DESCRIPTION:Dr. Arian Chehrehsa is dual board-certified with the American Board of Oral & Maxillofacial Surgery and the National Dental Board of Anesthesiology. He has a passion for full-arch rehabilitation and takes pride in managing more complex cases with the use of Zygomatic and Pterygoid Implants.
URL:https://www.cda.org/event-details/bundle-socket-preservation-digital-full-arch-full-arch-restorative-3/
LOCATION:Monterey Bay Dental Society\, 8 Harris Court\, Suite A2\, Monterey\, CA\, 93940\, United States
CATEGORIES:Affiliate In-Person Event
END:VEVENT
BEGIN:VEVENT
DTSTART;TZID=America/Los_Angeles:20250605T173000
DTEND;TZID=America/Los_Angeles:20250605T213000
DTSTAMP:20260422T024827
CREATED:20250312T210031Z
LAST-MODIFIED:20250312T210036Z
UID:10000970-1749144600-1749159000@www.cda.org
SUMMARY:BLS/CPR Certification
DESCRIPTION:
URL:https://www.cda.org/event-details/bls-cpr-certification/
LOCATION:Monterey Bay Dental Society\, 8 Harris Court\, Suite A2\, Monterey\, CA\, 93940\, United States
CATEGORIES:Affiliate In-Person Event
END:VEVENT
BEGIN:VEVENT
DTSTART;TZID=America/Los_Angeles:20250522T180000
DTEND;TZID=America/Los_Angeles:20250522T203000
DTSTAMP:20260422T024827
CREATED:20250311T231127Z
LAST-MODIFIED:20250311T231351Z
UID:10000929-1747936800-1747945800@www.cda.org
SUMMARY:BUNDLE – Socket Preservation\, Digital Full-Arch\, Full-Arch Restorative (Session 2 of 3)
DESCRIPTION:Dr. Arian Chehrehsa is dual board-certified with the American Board of Oral & Maxillofacial Surgery and the National Dental Board of Anesthesiology. He has a passion for full-arch rehabilitation and takes pride in managing more complex cases with the use of Zygomatic and Pterygoid Implants.
URL:https://www.cda.org/event-details/bundle-socket-preservation-digital-full-arch-full-arch-restorative-2/
LOCATION:Monterey Bay Dental Society\, 8 Harris Court\, Suite A2\, Monterey\, CA\, 93940\, United States
CATEGORIES:Affiliate In-Person Event
END:VEVENT
BEGIN:VEVENT
DTSTART;TZID=America/Los_Angeles:20250516T090000
DTEND;TZID=America/Los_Angeles:20250516T110000
DTSTAMP:20260422T024827
CREATED:20250312T202708Z
LAST-MODIFIED:20250312T202710Z
UID:10000960-1747386000-1747393200@www.cda.org
SUMMARY:Mastering Dental Claims Submissions
DESCRIPTION:
URL:https://www.cda.org/event-details/mastering-dental-claims-submissions/
LOCATION:Monterey Bay Dental Society\, 8 Harris Court\, Suite A2\, Monterey\, CA\, 93940\, United States
CATEGORIES:Affiliate In-Person Event
END:VEVENT
BEGIN:VEVENT
DTSTART;TZID=America/Los_Angeles:20250417T180000
DTEND;TZID=America/Los_Angeles:20250417T201500
DTSTAMP:20260422T024827
CREATED:20250311T225203Z
LAST-MODIFIED:20250311T225205Z
UID:10000918-1744912800-1744920900@www.cda.org
SUMMARY:California Dental Practice Act & Ethics Training
DESCRIPTION:
URL:https://www.cda.org/event-details/california-dental-practice-act-ethics-training/
LOCATION:Online Webinar
CATEGORIES:Affiliate Virtual Event
END:VEVENT
BEGIN:VEVENT
DTSTART;TZID=America/Los_Angeles:20250410T180000
DTEND;TZID=America/Los_Angeles:20250410T211500
DTSTAMP:20260422T024827
CREATED:20250311T205210Z
LAST-MODIFIED:20250408T155329Z
UID:10000909-1744308000-1744319700@www.cda.org
SUMMARY:OSHA & Infection Control
DESCRIPTION:
URL:https://www.cda.org/event-details/osha-infection-control-3/
LOCATION:Online Webinar
CATEGORIES:Affiliate Virtual Event
END:VEVENT
BEGIN:VEVENT
DTSTART;TZID=America/Los_Angeles:20250327T180000
DTEND;TZID=America/Los_Angeles:20250327T203000
DTSTAMP:20260422T024827
CREATED:20250311T231040Z
LAST-MODIFIED:20250311T231319Z
UID:10000928-1743098400-1743107400@www.cda.org
SUMMARY:BUNDLE – Socket Preservation\, Digital Full-Arch\, Full-Arch Restorative (Session 1 of 3)
DESCRIPTION:Dr. Arian Chehrehsa is dual board-certified with the American Board of Oral & Maxillofacial Surgery and the National Dental Board of Anesthesiology. He has a passion for full-arch rehabilitation and takes pride in managing more complex cases with the use of Zygomatic and Pterygoid Implants.
URL:https://www.cda.org/event-details/bundle-socket-preservation-digital-full-arch-full-arch-restorative/
LOCATION:Monterey Bay Dental Society\, 8 Harris Court\, Suite A2\, Monterey\, CA\, 93940\, United States
CATEGORIES:Affiliate In-Person Event
END:VEVENT
BEGIN:VEVENT
DTSTART;TZID=America/Los_Angeles:20250326T180000
DTEND;TZID=America/Los_Angeles:20250326T200000
DTSTAMP:20260422T024827
CREATED:20250311T181145Z
LAST-MODIFIED:20250311T181147Z
UID:10000892-1743012000-1743019200@www.cda.org
SUMMARY:Dentist Guide to Preventing Burnout
DESCRIPTION:
URL:https://www.cda.org/event-details/dentist-guide-to-preventing-burnout/
LOCATION:Online Webinar
CATEGORIES:Affiliate Virtual Event
END:VEVENT
BEGIN:VEVENT
DTSTART;TZID=America/Los_Angeles:20250322T103000
DTEND;TZID=America/Los_Angeles:20250322T130000
DTSTAMP:20260422T024827
CREATED:20250311T175733Z
LAST-MODIFIED:20250311T175735Z
UID:10000888-1742639400-1742648400@www.cda.org
SUMMARY:Bring your Dog to Carmel Beach!
DESCRIPTION:fun and relaxing social mixer
URL:https://www.cda.org/event-details/bring-your-dog-to-carmel-beach/
LOCATION:Carmel Beach\, Carmel Beach Ocean Avenue and Scenic Road\, Carmel-By-The-Sea\, CA\, 93923\, United States
CATEGORIES:Affiliate In-Person Event
END:VEVENT
BEGIN:VEVENT
DTSTART;TZID=America/Los_Angeles:20250319T180000
DTEND;TZID=America/Los_Angeles:20250319T200000
DTSTAMP:20260422T024827
CREATED:20250311T165929Z
LAST-MODIFIED:20250311T165931Z
UID:10000879-1742407200-1742414400@www.cda.org
SUMMARY:Sexual Harassment Prevention Training
DESCRIPTION:Sexual Harassment Prevention Training
URL:https://www.cda.org/event-details/sexual-harassment-prevention-training-2/
LOCATION:Online Webinar
CATEGORIES:Affiliate Virtual Event
END:VEVENT
END:VCALENDAR