BEGIN:VCALENDAR
VERSION:2.0
PRODID:-//CDA - ECPv6.15.11//NONSGML v1.0//EN
CALSCALE:GREGORIAN
METHOD:PUBLISH
X-ORIGINAL-URL:https://www.cda.org
X-WR-CALDESC:Events for CDA
REFRESH-INTERVAL;VALUE=DURATION:PT1H
X-Robots-Tag:noindex
X-PUBLISHED-TTL:PT1H
BEGIN:VTIMEZONE
TZID:America/Los_Angeles
BEGIN:DAYLIGHT
TZOFFSETFROM:-0800
TZOFFSETTO:-0700
TZNAME:PDT
DTSTART:20240310T100000
END:DAYLIGHT
BEGIN:STANDARD
TZOFFSETFROM:-0700
TZOFFSETTO:-0800
TZNAME:PST
DTSTART:20241103T090000
END:STANDARD
BEGIN:DAYLIGHT
TZOFFSETFROM:-0800
TZOFFSETTO:-0700
TZNAME:PDT
DTSTART:20250309T100000
END:DAYLIGHT
BEGIN:STANDARD
TZOFFSETFROM:-0700
TZOFFSETTO:-0800
TZNAME:PST
DTSTART:20251102T090000
END:STANDARD
BEGIN:DAYLIGHT
TZOFFSETFROM:-0800
TZOFFSETTO:-0700
TZNAME:PDT
DTSTART:20260308T100000
END:DAYLIGHT
BEGIN:STANDARD
TZOFFSETFROM:-0700
TZOFFSETTO:-0800
TZNAME:PST
DTSTART:20261101T090000
END:STANDARD
BEGIN:DAYLIGHT
TZOFFSETFROM:-0800
TZOFFSETTO:-0700
TZNAME:PDT
DTSTART:20270314T100000
END:DAYLIGHT
BEGIN:STANDARD
TZOFFSETFROM:-0700
TZOFFSETTO:-0800
TZNAME:PST
DTSTART:20271107T090000
END:STANDARD
END:VTIMEZONE
BEGIN:VEVENT
DTSTART;TZID=America/Los_Angeles:20260319T000000
DTEND;TZID=America/Los_Angeles:20260320T235959
DTSTAMP:20260421T034459
CREATED:20260306T235240Z
LAST-MODIFIED:20260306T235242Z
UID:10001348-1773878400-1774051199@www.cda.org
SUMMARY:Leadership Labs
DESCRIPTION:Dental Leadership Labs are immersive\, small-scale working sessions for owners who are actively scaling\, acquiring\, or preparing for their next phase of growth.This Charlotte edition features our partner HealthStream Ventures\, bringing a disciplined “optionality” lens: helping owners pressure-test their growth paths\, evaluate tradeoffs\, and identify what must be built next to keep options open. Then we shift from direction to diligence and systems\, with HR for Health anchoring the core Lab programming: spotting acquisition risks beyond the numbers and building repeatable multi-location people systems.Attendance is complimentary and invite-only; we keep the room small to protect the experience\, and we’re confident the programming will be worth your time.
URL:https://www.cda.org/event-details/leadership-labs/
LOCATION:Charlotte\, North Carolina\, Charlotte\, North Carolina\, United States
CATEGORIES:Affiliate In-Person Event
ATTACH;FMTTYPE=image/jpeg:https://www.cda.org/wp-content/uploads/181-f11b194db3ad301c4aae1aac6b5d97be_Leadership_Labs_Graphic.jpg
END:VEVENT
BEGIN:VEVENT
DTSTART;TZID=America/Los_Angeles:20251023T000000
DTEND;TZID=America/Los_Angeles:20251025T235959
DTSTAMP:20260421T034459
CREATED:20251007T221040Z
LAST-MODIFIED:20251007T221043Z
UID:10001114-1761177600-1761436799@www.cda.org
SUMMARY:HR for Health Dental Leadership Summit
DESCRIPTION:We’re excited to highlight the upcoming Dental Leadership Summit\, taking place October 23–25 in Salt Lake City\, UT! Hosted by our partners at HR for Health\, this event brings together dental practice owners\, DSOs\, and leaders from across the country to explore what’s next in team growth\, retention\, and compliance.Use promo code HRFHLOVE20 to save on your registration.
URL:https://www.cda.org/event-details/hr-for-health-dental-leadership-summit/
LOCATION:The Grand America Hotel\, 555 S Main Street\, Salt Lake City\, Utah\, 84111\, United States
CATEGORIES:Affiliate In-Person Event
END:VEVENT
BEGIN:VEVENT
DTSTART;TZID=America/Los_Angeles:20250627T120000
DTEND;TZID=America/Los_Angeles:20250627T140000
DTSTAMP:20260421T034459
CREATED:20250624T182255Z
LAST-MODIFIED:20250624T182257Z
UID:10001065-1751025600-1751032800@www.cda.org
SUMMARY:HR for Health 2025 Mid-Year Law Updates Webinar
DESCRIPTION:Learn the latest federal and state legal changes and how these changes may affect your operations and compliance requirements at HR for Health’s upcoming webinar on Friday\, June 27 at 12PST.
URL:https://www.cda.org/event-details/hr-for-health-2025-mid-year-law-updates-webinar/
LOCATION:Online Webinar
CATEGORIES:Affiliate Virtual Event
ATTACH;FMTTYPE=image/jpeg:https://www.cda.org/wp-content/uploads/199-4d927af57ef7d538054a6e4cb23d2d8d_HR_for_Health_-_Mid-year_law_updates_webinar_social.jpg
END:VEVENT
END:VCALENDAR