BEGIN:VCALENDAR
VERSION:2.0
PRODID:-//CDA - ECPv6.15.11//NONSGML v1.0//EN
CALSCALE:GREGORIAN
METHOD:PUBLISH
X-WR-CALNAME:CDA
X-ORIGINAL-URL:https://www.cda.org
X-WR-CALDESC:Events for CDA
REFRESH-INTERVAL;VALUE=DURATION:PT1H
X-Robots-Tag:noindex
X-PUBLISHED-TTL:PT1H
BEGIN:VTIMEZONE
TZID:America/Los_Angeles
BEGIN:DAYLIGHT
TZOFFSETFROM:-0800
TZOFFSETTO:-0700
TZNAME:PDT
DTSTART:20240310T100000
END:DAYLIGHT
BEGIN:STANDARD
TZOFFSETFROM:-0700
TZOFFSETTO:-0800
TZNAME:PST
DTSTART:20241103T090000
END:STANDARD
BEGIN:DAYLIGHT
TZOFFSETFROM:-0800
TZOFFSETTO:-0700
TZNAME:PDT
DTSTART:20250309T100000
END:DAYLIGHT
BEGIN:STANDARD
TZOFFSETFROM:-0700
TZOFFSETTO:-0800
TZNAME:PST
DTSTART:20251102T090000
END:STANDARD
BEGIN:DAYLIGHT
TZOFFSETFROM:-0800
TZOFFSETTO:-0700
TZNAME:PDT
DTSTART:20260308T100000
END:DAYLIGHT
BEGIN:STANDARD
TZOFFSETFROM:-0700
TZOFFSETTO:-0800
TZNAME:PST
DTSTART:20261101T090000
END:STANDARD
END:VTIMEZONE
BEGIN:VEVENT
DTSTART;TZID=America/Los_Angeles:20250421T000000
DTEND;TZID=America/Los_Angeles:20250421T235959
DTSTAMP:20260423T012802
CREATED:20250123T190434Z
LAST-MODIFIED:20250212T193340Z
UID:10000815-1745193600-1745279999@www.cda.org
SUMMARY:Western U ASDA Vendor Fair
DESCRIPTION:
URL:https://www.cda.org/event-details/western-u-asda-vendor-fair/
LOCATION:Western University\, 309 E. Second Street\, Pomona\, CA\, 91766\, United States
CATEGORIES:CDA In-Person Event
ATTACH;FMTTYPE=image/jpeg:https://www.cda.org/wp-content/uploads/Western_Us_ASDA_Vendor_Fair.jpg
END:VEVENT
BEGIN:VEVENT
DTSTART;TZID=America/Los_Angeles:20250418T100000
DTEND;TZID=America/Los_Angeles:20250418T140000
DTSTAMP:20260423T012802
CREATED:20241204T195925Z
LAST-MODIFIED:20250103T210637Z
UID:10000604-1744970400-1744984800@www.cda.org
SUMMARY:CDA Audit Committee
DESCRIPTION:
URL:https://www.cda.org/event-details/cda-audit-committee-8/
CATEGORIES:Meeting
END:VEVENT
BEGIN:VEVENT
DTSTART;TZID=America/Los_Angeles:20250417T110000
DTEND;TZID=America/Los_Angeles:20250417T140000
DTSTAMP:20260423T012802
CREATED:20250305T192957Z
LAST-MODIFIED:20250305T192959Z
UID:10000851-1744887600-1744898400@www.cda.org
SUMMARY:UCLA Senior Swag Day
DESCRIPTION:Senior Swag Day is CDA’s last touchpoint with dental students at CA dental Schools. CDA\, TDIC\, and the local dental society provide swag and inform graduating students about organized dentistry as the transition into licensed dentists. We aim to have the graduating students update their student applications so we can stay connected and provide them with a seamless transition into practice.
URL:https://www.cda.org/event-details/ucla-senior-swag-day-4/
LOCATION:UCLA School of Dentistry\, 714 Tiverton\, Los Angeles\, CA\, 90095\, United States
CATEGORIES:CDA In-Person Event
ATTACH;FMTTYPE=image/jpeg:https://www.cda.org/wp-content/uploads/214-48573aa465b0db6591e7198830e04a81_UCLA_Senior_Swag_Day.jpg
END:VEVENT
BEGIN:VEVENT
DTSTART;TZID=America/Los_Angeles:20250416T110000
DTEND;TZID=America/Los_Angeles:20250416T140000
DTSTAMP:20260423T012802
CREATED:20250305T192936Z
LAST-MODIFIED:20250305T192939Z
UID:10000850-1744801200-1744812000@www.cda.org
SUMMARY:UCLA Senior Swag Day
DESCRIPTION:Senior Swag Day is CDA’s last touchpoint with dental students at CA dental Schools. CDA\, TDIC\, and the local dental society provide swag and inform graduating students about organized dentistry as the transition into licensed dentists. We aim to have the graduating students update their student applications so we can stay connected and provide them with a seamless transition into practice.
URL:https://www.cda.org/event-details/ucla-senior-swag-day-3/
LOCATION:UCLA School of Dentistry\, 714 Tiverton\, Los Angeles\, CA\, 90095\, United States
CATEGORIES:CDA In-Person Event
ATTACH;FMTTYPE=image/jpeg:https://www.cda.org/wp-content/uploads/214-48573aa465b0db6591e7198830e04a81_UCLA_Senior_Swag_Day.jpg
END:VEVENT
BEGIN:VEVENT
DTSTART;TZID=America/Los_Angeles:20250410T173000
DTEND;TZID=America/Los_Angeles:20250410T183000
DTSTAMP:20260423T012802
CREATED:20250123T010833Z
LAST-MODIFIED:20250310T231238Z
UID:10000809-1744306200-1744309800@www.cda.org
SUMMARY:HIPAA COMPLIANCE: Reduce Risks and Improve Security
DESCRIPTION:Privacy violations continue to occur among dental practices. Healthcare entities continue to be found lacking in meeting HIPAA security standards while the incidence of cyber incidents grows. \n\n\n\nLearning Objectives: \n\n\n\n\nUnderstand the issues which bring dental practices under investigation by Office for Civil Rights.\n\n\n\nLearn about potential changes to the HIPAA Security Rule.\n\n\n\nKnow where to look for compliance assistance.
URL:https://www.cda.org/event-details/webinar-hipaa-cybersecurity-with-abyde/
LOCATION:Online Webinar
CATEGORIES:CDA Virtual Event
ATTACH;FMTTYPE=image/jpeg:https://www.cda.org/wp-content/uploads/CDAPS_HIPAA_cyber_webinar_FBLI-1.jpg
END:VEVENT
BEGIN:VEVENT
DTSTART;TZID=America/Los_Angeles:20250410T170000
DTEND;TZID=America/Los_Angeles:20250410T200000
DTSTAMP:20260423T012802
CREATED:20250120T201738Z
LAST-MODIFIED:20250205T210440Z
UID:10000701-1744304400-1744315200@www.cda.org
SUMMARY:LLU ASDA Vendor Fair
DESCRIPTION:
URL:https://www.cda.org/event-details/llu-asda-vendor-fair/
LOCATION:Loma Linda University School of Dentistry\, 11092 Anderson Street\, Loma Linda\, California\, 92350\, United States
CATEGORIES:CDA In-Person Event
ATTACH;FMTTYPE=image/jpeg:https://www.cda.org/wp-content/uploads/LLU-Vendor-Fair-scaled.jpg
END:VEVENT
BEGIN:VEVENT
DTSTART;TZID=America/Los_Angeles:20250409T180000
DTEND;TZID=America/Los_Angeles:20250409T190000
DTSTAMP:20260423T012802
CREATED:20250225T201359Z
LAST-MODIFIED:20250311T191744Z
UID:10000842-1744221600-1744225200@www.cda.org
SUMMARY:The Art of Conflict Resolution
DESCRIPTION:Exclusive webinar – available to Leadership Workshop attendees only \n\n\n\nThis course explores effective strategies for addressing and managing conflict within an influence-based leadership framework. Using the Thomas-Kilmann Conflict Modes participants will learn to identify which conflict modes they tend to lean on more than others. \n\n\n\nLearning Outcomes: \n\n\n\n\nDiscuss which Conflict Modes are the most appropriate for a variety of situations.\n\n\n\nDescribe the 5 Conflict Modes outlined in the Thomas-Kilmann Conflict Indicator.\n\n\n\nIdentify individual tendencies within the Thomas-Kilmann Conflict Mode.
URL:https://www.cda.org/event-details/the-art-of-conflict-resolution/
LOCATION:Online Webinar
CATEGORIES:CDA Virtual Event
END:VEVENT
BEGIN:VEVENT
DTSTART;TZID=America/Los_Angeles:20250408T173000
DTEND;TZID=America/Los_Angeles:20250408T183000
DTSTAMP:20260423T012802
CREATED:20241204T195329Z
LAST-MODIFIED:20250103T210700Z
UID:10000601-1744133400-1744137000@www.cda.org
SUMMARY:CDA Board of Directors
DESCRIPTION:
URL:https://www.cda.org/event-details/cda-board-of-directors-27/
CATEGORIES:Meeting
END:VEVENT
BEGIN:VEVENT
DTSTART;TZID=America/Los_Angeles:20250408T110000
DTEND;TZID=America/Los_Angeles:20250408T130000
DTSTAMP:20260423T012802
CREATED:20250120T201516Z
LAST-MODIFIED:20250123T191215Z
UID:10000816-1744110000-1744117200@www.cda.org
SUMMARY:USC- Senior Swag Day
DESCRIPTION:Senior Swag Day is CDA’s last touchpoint with dental students at CAdental Schools. CDA\, TDIC\, and the local dental society provide swag and inform graduating students about organized dentistry as they transition into licensed dentists. We aim to have the graduating students update their student applications so we can stay connected and provide them with a seamless transition into practice.
URL:https://www.cda.org/event-details/usc-senior-swag-day/
LOCATION:USC School of Dentistry\, 925 W 34th Street\, Los Angeles\, CA\, 90089\, United States
CATEGORIES:CDA In-Person Event
ATTACH;FMTTYPE=image/jpeg:https://www.cda.org/wp-content/uploads/USC-Senior-Swag.jpg
END:VEVENT
BEGIN:VEVENT
DTSTART;TZID=America/Los_Angeles:20250407T110000
DTEND;TZID=America/Los_Angeles:20250407T130000
DTSTAMP:20260423T012802
CREATED:20250123T191923Z
LAST-MODIFIED:20250123T191924Z
UID:10000699-1744023600-1744030800@www.cda.org
SUMMARY:USC- Senior Swag Day
DESCRIPTION:Senior Swag Day is CDA’s last touchpoint with dental students at CAdental Schools. CDA\, TDIC\, and the local dental society provide swag and inform graduating students about organized dentistry as they transition into licensed dentists. We aim to have the graduating students update their student applications so we can stay connected and provide them with a seamless transition into practice.
URL:https://www.cda.org/event-details/usc-senior-swag-day-4/
LOCATION:USC School of Dentistry\, 925 W 34th Street\, Los Angeles\, CA\, 90089\, United States
CATEGORIES:CDA In-Person Event
ATTACH;FMTTYPE=image/jpeg:https://www.cda.org/wp-content/uploads/USC-Senior-Swag.jpg
END:VEVENT
BEGIN:VEVENT
DTSTART;TZID=America/Los_Angeles:20250404T110000
DTEND;TZID=America/Los_Angeles:20250404T150000
DTSTAMP:20260423T012802
CREATED:20250304T211119Z
LAST-MODIFIED:20250304T211121Z
UID:10000849-1743764400-1743778800@www.cda.org
SUMMARY:LLU-Senior Swag Day
DESCRIPTION:Senior Swag Day is CDA’s last touchpoint with dental students at CA dental Schools. CDA\, TDIC\, and the local dental society provide swag and inform graduating students about organized dentistry as they transition into licensed dentists. We aim to have the graduating students update their student applications so we can stay connected and provide them with a seamless transition into practice.
URL:https://www.cda.org/event-details/llu-senior-swag-day-2/
LOCATION:Loma Linda University School of Dentistry\, 11092 Anderson Street\, Loma Linda\, California\, 92350\, United States
CATEGORIES:CDA In-Person Event
END:VEVENT
BEGIN:VEVENT
DTSTART;TZID=America/Los_Angeles:20250403T173000
DTEND;TZID=America/Los_Angeles:20250403T183000
DTSTAMP:20260423T012802
CREATED:20250128T011453Z
LAST-MODIFIED:20250321T234414Z
UID:10000819-1743701400-1743705000@www.cda.org
SUMMARY:HR Masterclass Webinar Series: Navigating Employee Leaves of Absence\, Performance and Conflict with Confidence (Part 2 of 2)
DESCRIPTION:Effectively managing employee leaves\, performance challenges and workplace conflict is essential to employee retention and maintaining a productive practice. This webinar equips attendees with practical strategies and legal insights to handle these complex situations. We will cover the essential elements of leading and managing the people you employ in your practice.  \n\n\n\nSeparate registration is required for Part 1\, Compliance Essentials and Common Pitfalls. \n\n\n\nLearning Objectives: \n\n\n\n\nLearn what documentation should be in place to minimize legal risks.\n\n\n\nUnderstand the legal requirements and systems for managing employee leaves.\n\n\n\nLearn how performance management can have a positive effect on your employees and practice culture.
URL:https://www.cda.org/event-details/hr-masterclass-webinar-series-navigating-employee-leaves-of-absences-performance-and-conflict-with-confidence-part-2-of-2/
LOCATION:Online Webinar
CATEGORIES:CDA Virtual Event
ATTACH;FMTTYPE=image/jpeg:https://www.cda.org/wp-content/uploads/CDAPS_25_Employment-Law-Update-Webinar_FB-Li_1200x630-2.jpg
END:VEVENT
BEGIN:VEVENT
DTSTART;TZID=America/Los_Angeles:20250403T110000
DTEND;TZID=America/Los_Angeles:20250403T150000
DTSTAMP:20260423T012802
CREATED:20250304T211056Z
LAST-MODIFIED:20250304T211058Z
UID:10000848-1743678000-1743692400@www.cda.org
SUMMARY:LLU-Senior Swag Day
DESCRIPTION:Senior Swag Day is CDA’s last touchpoint with dental students at CA dental Schools. CDA\, TDIC\, and the local dental society provide swag and inform graduating students about organized dentistry as they transition into licensed dentists. We aim to have the graduating students update their student applications so we can stay connected and provide them with a seamless transition into practice.
URL:https://www.cda.org/event-details/llu-senior-swag-day/
LOCATION:Loma Linda University School of Dentistry\, 11092 Anderson Street\, Loma Linda\, California\, 92350\, United States
CATEGORIES:CDA In-Person Event
END:VEVENT
BEGIN:VEVENT
DTSTART;TZID=America/Los_Angeles:20250401T173000
DTEND;TZID=America/Los_Angeles:20250401T183000
DTSTAMP:20260423T012802
CREATED:20250128T011021Z
LAST-MODIFIED:20250321T235013Z
UID:10000818-1743528600-1743532200@www.cda.org
SUMMARY:HR Masterclass Webinar Series: Compliance Essentials and Common Pitfalls (Part 1 of 2)
DESCRIPTION:Managing HR compliance is increasingly complex in California. From ever-changing regulations to potential financial penalties\, non-compliance can expose your practice to significant risks. Staying on top of it all can be daunting—but it doesn’t have to be. Join us for Part 1 as we cover the legal and foundational functions of human resources.  \n\n\n\nSeparate registration is required for Part 2\, Navigating Employee Leaves of Absence\, Performance and Conflict with Confidence. \n\n\n\nLearning Objectives: \n\n\n\n\nDevelop a pro-active approach to employee onboarding to increase employee satisfaction and retention.\n\n\n\nIdentify best practices for hiring\, wage and hour laws\, employment agreements\, employee classifications and recordkeeping.\n\n\n\nIdentify common compliance pitfalls and practical steps to minimize legal risks.
URL:https://www.cda.org/event-details/hr-masterclass-webinar-series-compliance-essentials-and-common-pitfalls-part-1-of-2/
LOCATION:Online Webinar
CATEGORIES:CDA Virtual Event
ATTACH;FMTTYPE=image/jpeg:https://www.cda.org/wp-content/uploads/CDAPS_25_Employment-Law-Update-Webinar_FB-Li_1200x630-2.jpg
END:VEVENT
BEGIN:VEVENT
DTSTART;TZID=America/Los_Angeles:20250328T120000
DTEND;TZID=America/Los_Angeles:20250328T130000
DTSTAMP:20260423T012802
CREATED:20250304T205154Z
LAST-MODIFIED:20250304T205156Z
UID:10000847-1743163200-1743166800@www.cda.org
SUMMARY:1099 vs W2 What's the Difference
DESCRIPTION:This course addresses the legal considerations of independent contractor and employee classifications in a dental practice.
URL:https://www.cda.org/event-details/1099-vs-w2-whats-the-difference/
LOCATION:CNU\, 9700 W. Taron Dr.\, Elk Grove\, CA\, 95757\, United States
CATEGORIES:CDA In-Person Event
END:VEVENT
BEGIN:VEVENT
DTSTART;TZID=America/Los_Angeles:20250328T100000
DTEND;TZID=America/Los_Angeles:20250328T160000
DTSTAMP:20260423T012802
CREATED:20241204T194756Z
LAST-MODIFIED:20250103T211332Z
UID:10000600-1743156000-1743177600@www.cda.org
SUMMARY:CDA Presents Board of Managers
DESCRIPTION:
URL:https://www.cda.org/event-details/cda-presents-board-of-managers-8/
CATEGORIES:Meeting
END:VEVENT
BEGIN:VEVENT
DTSTART;TZID=America/Los_Angeles:20250325T120000
DTEND;TZID=America/Los_Angeles:20250325T133000
DTSTAMP:20260423T012802
CREATED:20250325T154041Z
LAST-MODIFIED:20250325T154045Z
UID:10001036-1742904000-1742909400@www.cda.org
SUMMARY:LLU IDP CDA Orientation
DESCRIPTION:
URL:https://www.cda.org/event-details/llu-idp-cda-orientation-2/
LOCATION:Loma Linda University School of Dentistry\, 11092 Anderson Street\, Loma Linda\, California\, 92350\, United States
CATEGORIES:CDA In-Person Event
END:VEVENT
BEGIN:VEVENT
DTSTART;TZID=America/Los_Angeles:20250315T080000
DTEND;TZID=America/Los_Angeles:20250315T160000
DTSTAMP:20260423T012802
CREATED:20240913T172149Z
LAST-MODIFIED:20250103T211413Z
UID:10000489-1742025600-1742054400@www.cda.org
SUMMARY:CDA Leadership Workshop
DESCRIPTION:Please save the date for the 2025 Leadership Workshop event! The events calendar will be updated as details\, location and schedules are finalized in the coming months.
URL:https://www.cda.org/event-details/cda-leadership-workshop/
CATEGORIES:CDA In-Person Event
END:VEVENT
BEGIN:VEVENT
DTSTART;TZID=America/Los_Angeles:20250314T173000
DTEND;TZID=America/Los_Angeles:20250314T203000
DTSTAMP:20260423T012802
CREATED:20240913T165911Z
LAST-MODIFIED:20250103T211449Z
UID:10000488-1741973400-1741984200@www.cda.org
SUMMARY:CDA Leadership Workshop Social Event
DESCRIPTION:There will be an optional Social Event to evening of Friday\, March 14\, 2025\, prior to the Leadership Workshop\, taking on Saturday\, March 15\, 2025.  \n\n\n\nThe time and location for the Social Event on Friday\, March 14 are still TBD. The Events Calendar will be updated as logistics are confirmed.
URL:https://www.cda.org/event-details/cda-leadership-workshop-social-event/
CATEGORIES:CDA In-Person Event
END:VEVENT
BEGIN:VEVENT
DTSTART;TZID=America/Los_Angeles:20250312T180000
DTEND;TZID=America/Los_Angeles:20250312T200000
DTSTAMP:20260423T012803
CREATED:20250204T215511Z
LAST-MODIFIED:20250212T195841Z
UID:10000829-1741802400-1741809600@www.cda.org
SUMMARY:Faculty mixer with ADA\, CDA and WLADS
DESCRIPTION:Join in a fun evening with your faculty peers and representatives from the American Dental Association\, the California Dental Association and the Western Los Angeles Dental Society. Enjoy good conversation and complimentary small plates\, passed hors d’oeuvres\, libations and desserts. All California dental school educators\, full-time or part-time\, are welcome. Not yet a member of organized dentistry? Learn about the unique resources and support. Already a member? Find out how to maximize your benefits.
URL:https://www.cda.org/event-details/faculty-mixer-with-ada-cda-and-wlads-2/
LOCATION:Wolfsglen Restaurant\, 1071 Glendon Avenue\, Los Angeles\, CA\, 90024\, United States
CATEGORIES:CDA In-Person Event
ATTACH;FMTTYPE=image/png:https://www.cda.org/wp-content/uploads/Faculty-Mixer-1.png
END:VEVENT
BEGIN:VEVENT
DTSTART;TZID=America/Los_Angeles:20250308T100000
DTEND;TZID=America/Los_Angeles:20250308T133000
DTSTAMP:20260423T012803
CREATED:20241209T200357Z
LAST-MODIFIED:20250129T165253Z
UID:10000644-1741428000-1741440600@www.cda.org
SUMMARY:Now + Next: Innovative Patient Communication Strategies - San Mateo
DESCRIPTION:Dealing with awkward moments in a dental office is an inevitable part of patient care. Whether it’s an uncomfortable silence\, a difficult question or a misunderstanding\, dentists must navigate the situation with professionalism\, empathy and ethics to maintain a positive patient experience. The integration of artificial intelligence in dentistry can support connection with patients\, providing that the subtleties and limitations of AI are understood. Sensible use of AI tools and technology may play a pivotal role in enhancing care by delivering real-time information and tailored recommendations. While challenging moments are unavoidable\, innovative strategies can help you build confidence\, ease tension and prevent missteps in patient communication.  \n\n\n\nTo learn more about Now + Next in San Mateo\, click on this link to get details.
URL:https://www.cda.org/event-details/now-next-innovative-patient-communication-strategies-san-mateo/
LOCATION:Pinstripes\, 36 Hillsdale Mall\, San Mateo\, CA\, 94403\, United States
CATEGORIES:CDA In-Person Event
END:VEVENT
BEGIN:VEVENT
DTSTART;TZID=America/Los_Angeles:20250307T130000
DTEND;TZID=America/Los_Angeles:20250307T140000
DTSTAMP:20260423T012803
CREATED:20250304T205004Z
LAST-MODIFIED:20250304T205010Z
UID:10000846-1741352400-1741356000@www.cda.org
SUMMARY:UOP Sacramento DSO vs. Private Lunch and Learn
DESCRIPTION:
URL:https://www.cda.org/event-details/uop-sacramento-dso-vs-private-lunch-and-learn/
CATEGORIES:CDA In-Person Event
END:VEVENT
BEGIN:VEVENT
DTSTART;TZID=America/Los_Angeles:20250307T090000
DTEND;TZID=America/Los_Angeles:20250307T110000
DTSTAMP:20260423T012803
CREATED:20241204T194351Z
LAST-MODIFIED:20250103T212350Z
UID:10000598-1741338000-1741345200@www.cda.org
SUMMARY:CDA Foundation Wellness Committee
DESCRIPTION:
URL:https://www.cda.org/event-details/cda-foundation-wellness-committee/
CATEGORIES:Meeting
END:VEVENT
BEGIN:VEVENT
DTSTART;TZID=America/Los_Angeles:20250306T100000
DTEND;TZID=America/Los_Angeles:20250307T140000
DTSTAMP:20260423T012803
CREATED:20241204T194239Z
LAST-MODIFIED:20250103T212341Z
UID:10000597-1741255200-1741356000@www.cda.org
SUMMARY:CDA Board of Directors
DESCRIPTION:
URL:https://www.cda.org/event-details/cda-board-of-directors-26/
CATEGORIES:Meeting
END:VEVENT
BEGIN:VEVENT
DTSTART;TZID=America/Los_Angeles:20250305T093000
DTEND;TZID=America/Los_Angeles:20250305T153000
DTSTAMP:20260423T012803
CREATED:20241204T194036Z
LAST-MODIFIED:20250103T212333Z
UID:10000596-1741167000-1741188600@www.cda.org
SUMMARY:Government Affairs Council
DESCRIPTION:
URL:https://www.cda.org/event-details/government-affairs-council-13/
CATEGORIES:Meeting
END:VEVENT
BEGIN:VEVENT
DTSTART;TZID=America/Los_Angeles:20250225T110000
DTEND;TZID=America/Los_Angeles:20250225T140000
DTSTAMP:20260423T012803
CREATED:20250212T193748Z
LAST-MODIFIED:20250225T191938Z
UID:10000832-1740481200-1740492000@www.cda.org
SUMMARY:UOP Senior Swag Day
DESCRIPTION:Senior Swag Day is CDA’s last touchpoint with dental students at CA dental Schools. CDA\, TDIC\, and the local dental society provide swag and inform graduating students about organized dentistry as they transition into licensed dentists. We aim to have the graduating students update their student applications so we can stay connected and provide them with a seamless transition into practice.
URL:https://www.cda.org/event-details/uop-senior-swag-day-6/
LOCATION:UOP\, Arthur A. Dugoni School of Dentistry\, 155 5th Street\, San Francisco\, CA\, 94103\, United States
CATEGORIES:CDA In-Person Event
ATTACH;FMTTYPE=image/jpeg:https://www.cda.org/wp-content/uploads/Image-68.jpg
END:VEVENT
BEGIN:VEVENT
DTSTART;TZID=America/Los_Angeles:20250224T160000
DTEND;TZID=America/Los_Angeles:20250224T170000
DTSTAMP:20260423T012803
CREATED:20250212T193709Z
LAST-MODIFIED:20250225T191934Z
UID:10000831-1740412800-1740416400@www.cda.org
SUMMARY:UOP Senior Swag Day
DESCRIPTION:Senior Swag Day is CDA’s last touchpoint with dental students at CA dental Schools. CDA\, TDIC\, and the local dental society provide swag and inform graduating students about organized dentistry as they transition into licensed dentists. We aim to have the graduating students update their student applications so we can stay connected and provide them with a seamless transition into practice.
URL:https://www.cda.org/event-details/uop-senior-swag-day-5/
LOCATION:UOP\, Arthur A. Dugoni School of Dentistry\, 155 5th Street\, San Francisco\, CA\, 94103\, United States
CATEGORIES:CDA In-Person Event
ATTACH;FMTTYPE=image/jpeg:https://www.cda.org/wp-content/uploads/Image-68.jpg
END:VEVENT
BEGIN:VEVENT
DTSTART;TZID=America/Los_Angeles:20250224T110000
DTEND;TZID=America/Los_Angeles:20250224T140000
DTSTAMP:20260423T012803
CREATED:20250212T193632Z
LAST-MODIFIED:20250225T191924Z
UID:10000830-1740394800-1740405600@www.cda.org
SUMMARY:UOP Senior Swag Day
DESCRIPTION:Senior Swag Day is CDA’s last touchpoint with dental students at CA dental Schools. CDA\, TDIC\, and the local dental society provide swag and inform graduating students about organized dentistry as they transition into licensed dentists. We aim to have the graduating students update their student applications so we can stay connected and provide them with a seamless transition into practice.
URL:https://www.cda.org/event-details/uop-senior-swag-day-4/
LOCATION:UOP\, Arthur A. Dugoni School of Dentistry\, 155 5th Street\, San Francisco\, CA\, 94103\, United States
CATEGORIES:CDA In-Person Event
ATTACH;FMTTYPE=image/jpeg:https://www.cda.org/wp-content/uploads/Image-68.jpg
END:VEVENT
BEGIN:VEVENT
DTSTART;TZID=America/Los_Angeles:20250222T100000
DTEND;TZID=America/Los_Angeles:20250222T133000
DTSTAMP:20260423T012803
CREATED:20241209T200107Z
LAST-MODIFIED:20250129T164701Z
UID:10000643-1740218400-1740231000@www.cda.org
SUMMARY:Now + Next: Innovative Patient Communication Strategies - Redding
DESCRIPTION:Dealing with awkward moments in a dental office is an inevitable part of patient care. Whether it’s an uncomfortable silence\, a difficult question or a misunderstanding\, dentists must navigate the situation with professionalism\, empathy and ethics to maintain a positive patient experience. The integration of artificial intelligence in dentistry can support connection with patients\, providing that the subtleties and limitations of AI are understood. Sensible use of AI tools and technology may play a pivotal role in enhancing care by delivering real-time information and tailored recommendations. While challenging moments are unavoidable\, innovative strategies can help you build confidence\, ease tension and prevent missteps in patient communication.  \n\n\n\nTo learn more about Now + Next in Redding\, click on this link to get details.
URL:https://www.cda.org/event-details/now-next-innovative-patient-communication-strategies-redding/
LOCATION:Sheraton Redding Hotel at the Sundial Bridge\, 820 Sundial Bridge Drive\, Redding\, CA\, 96003\, United States
CATEGORIES:CDA In-Person Event
END:VEVENT
BEGIN:VEVENT
DTSTART;TZID=America/Los_Angeles:20250221T130000
DTEND;TZID=America/Los_Angeles:20250221T160000
DTSTAMP:20260423T012803
CREATED:20241204T192524Z
LAST-MODIFIED:20250103T213119Z
UID:10000594-1740142800-1740153600@www.cda.org
SUMMARY:CDA Finance Committee
DESCRIPTION:
URL:https://www.cda.org/event-details/cda-finance-committee-5/
CATEGORIES:Meeting
END:VEVENT
END:VCALENDAR