BEGIN:VCALENDAR
VERSION:2.0
PRODID:-//CDA - ECPv6.15.11//NONSGML v1.0//EN
CALSCALE:GREGORIAN
METHOD:PUBLISH
X-WR-CALNAME:CDA
X-ORIGINAL-URL:https://www.cda.org
X-WR-CALDESC:Events for CDA
REFRESH-INTERVAL;VALUE=DURATION:PT1H
X-Robots-Tag:noindex
X-PUBLISHED-TTL:PT1H
BEGIN:VTIMEZONE
TZID:America/Los_Angeles
BEGIN:DAYLIGHT
TZOFFSETFROM:-0800
TZOFFSETTO:-0700
TZNAME:PDT
DTSTART:20240310T100000
END:DAYLIGHT
BEGIN:STANDARD
TZOFFSETFROM:-0700
TZOFFSETTO:-0800
TZNAME:PST
DTSTART:20241103T090000
END:STANDARD
BEGIN:DAYLIGHT
TZOFFSETFROM:-0800
TZOFFSETTO:-0700
TZNAME:PDT
DTSTART:20250309T100000
END:DAYLIGHT
BEGIN:STANDARD
TZOFFSETFROM:-0700
TZOFFSETTO:-0800
TZNAME:PST
DTSTART:20251102T090000
END:STANDARD
BEGIN:DAYLIGHT
TZOFFSETFROM:-0800
TZOFFSETTO:-0700
TZNAME:PDT
DTSTART:20260308T100000
END:DAYLIGHT
BEGIN:STANDARD
TZOFFSETFROM:-0700
TZOFFSETTO:-0800
TZNAME:PST
DTSTART:20261101T090000
END:STANDARD
END:VTIMEZONE
BEGIN:VEVENT
DTSTART;TZID=America/Los_Angeles:20250618T173000
DTEND;TZID=America/Los_Angeles:20250618T183000
DTSTAMP:20260423T054032
CREATED:20250414T192727Z
LAST-MODIFIED:20250430T152243Z
UID:10001054-1750267800-1750271400@www.cda.org
SUMMARY:Fluoride Facts\, Myths & Meaningful Conversations: Communicating Effectively with Patients 
DESCRIPTION:This one-hour continuing education course is designed to equip dental professionals with effective communication strategies for discussing the benefits and safety of fluoride with patients. Participants will learn how to address common misconceptions\, provide evidence-based responses\, and foster trust through clear and empathetic dialogue. Misinformation about fluoridation will be addressed\, including clarification on different fluoride sources\, ingested vs. topical fluorides\, and recent fluoridation legislation. The session will include practical approaches\, case scenarios\, and a Q&A segment to reinforce key concepts. \n\n\n\nLearning Objectives: \n\n\n\nBy the end of this course\, participants will be able to:  \n\n\n\n\nCommunicate the benefits of fluoride in preventing dental caries using clear\, patient-friendly language. \n\n\n\nAddress common concerns and misconceptions about fluoride safety with evidence-based responses. \n\n\n\nBuild patient trust through active listening and empathetic communication techniques. 
URL:https://www.cda.org/event-details/fluoride-facts-myths-meaningful-conversations-communicating-effectively-with-patients/
LOCATION:Online Webinar
CATEGORIES:CDA Virtual Event
ATTACH;FMTTYPE=image/jpeg:https://www.cda.org/wp-content/uploads/CDAPS_2025_June-Water-Fluoridation-Webinar_FB-Li_1200x630-1.jpg
END:VEVENT
BEGIN:VEVENT
DTSTART;TZID=America/Los_Angeles:20250617T180000
DTEND;TZID=America/Los_Angeles:20250617T190000
DTSTAMP:20260423T054032
CREATED:20250221T195149Z
LAST-MODIFIED:20250311T174356Z
UID:10000840-1750183200-1750186800@www.cda.org
SUMMARY:Deep Dive: Financial Fraud Prevention and Cyber Security
DESCRIPTION:Exclusive webinar – available to Leadership Workshop attendees only \n\n\n\nThis webinar equips association leaders with actionable strategies to safeguard organizational resources. Tailored for executive directors and volunteer leaders charged with financial oversight\, this session will cover cyber security fundamentals and simple\, effective approaches to minimizing risk. Practical tips\, real-world examples and preventive tactics will be shared to empower attendees with the knowledge to identify and combat financial fraud. \n\n\n\nLearning Outcomes: \n\n\n\n\nReview practical and actionable cybersecurity measures and fraud prevention strategies tailored to executive leadership roles.\n\n\n\nIdentify key types of financial fraud and recognize common fraud schemes\, including cyber-enabled threats.\n\n\n\nUnderstand the role of internal controls in financial fraud prevention and how to strengthen them to protect against insider and external threats.
URL:https://www.cda.org/event-details/leadership-workshop-webinar-series-finance/
LOCATION:Online Webinar
CATEGORIES:CDA Virtual Event
END:VEVENT
BEGIN:VEVENT
DTSTART;TZID=America/Los_Angeles:20250612T093000
DTEND;TZID=America/Los_Angeles:20250612T163000
DTSTAMP:20260423T054032
CREATED:20241204T223101Z
LAST-MODIFIED:20250103T205940Z
UID:10000615-1749720600-1749745800@www.cda.org
SUMMARY:CDA PAC
DESCRIPTION:
URL:https://www.cda.org/event-details/cda-pac/
CATEGORIES:Meeting
END:VEVENT
BEGIN:VEVENT
DTSTART;TZID=America/Los_Angeles:20250611T090000
DTEND;TZID=America/Los_Angeles:20250611T120000
DTSTAMP:20260423T054032
CREATED:20241204T222645Z
LAST-MODIFIED:20250103T205931Z
UID:10000614-1749632400-1749643200@www.cda.org
SUMMARY:Government Affairs Council
DESCRIPTION:
URL:https://www.cda.org/event-details/government-affairs-council-16/
CATEGORIES:Meeting
END:VEVENT
BEGIN:VEVENT
DTSTART;TZID=America/Los_Angeles:20250610T173000
DTEND;TZID=America/Los_Angeles:20250610T190000
DTSTAMP:20260423T054032
CREATED:20250422T225913Z
LAST-MODIFIED:20250529T204617Z
UID:10001057-1749576600-1749582000@www.cda.org
SUMMARY:Parafunction or Protective Function: How Bruxism May Be Related to Sleep Apnea\, What to Look For and What to do About It
DESCRIPTION:For decades we have blamed grinding and clenching of the teeth on stress and malocclusion. While certainly emotional stress and occlusal factors can play a role in the etiology of bruxism\, it is becoming clear that in many cases\, the patient’s obstructive airway issues are a major driving factor. \n\n\n\nIn this engaging presentation\, Dr. Spencer will take you on an evidence-based journey and make a strong case that the so-called “parafunction” that wreaks havoc on our patient’s teeth and on our best restorations may actually be “protective” in nature. This understanding may help with the diagnosis and actual treatment of the true underlying etiology of the bruxism. \n\n\n\nWith the case made that clenching and grinding may be the brain’s way to protect itself from suﬀocation\, we will then focus on how to protect the patient\, protect their teeth\, protect their restorations and protect the dentist’s practice. \n\n\n\nLearning Objectives: \n\n\n\n\nReview the literature regarding possible connections between bruxism and obstructive sleep apnea.\n\n\n\nDiscuss use of night guards and oral appliances for sleep apnea and their eﬀects on bruxism muscle activity.\n\n\n\nLearn how to screen patients for possible sleep apnea related bruxism and when to refer for a sleep evaluation.
URL:https://www.cda.org/event-details/parafunction-or-protective-function-how-bruxism-may-be-related-to-sleep-apnea-what-to-look-for-and-what-to-do-about-it/
LOCATION:Online Webinar
CATEGORIES:CDA Virtual Event
ATTACH;FMTTYPE=image/jpeg:https://www.cda.org/wp-content/uploads/CDAP360_25_HOW_Summer_Promo_Webinar_FB-Li_1200x630-1.jpg
END:VEVENT
BEGIN:VEVENT
DTSTART;TZID=America/Los_Angeles:20250610T120000
DTEND;TZID=America/Los_Angeles:20250610T130000
DTSTAMP:20260423T054032
CREATED:20241204T222531Z
LAST-MODIFIED:20250103T205924Z
UID:10000613-1749556800-1749560400@www.cda.org
SUMMARY:CDA Presents Board of Managers Lunchtime Meeting
DESCRIPTION:
URL:https://www.cda.org/event-details/cda-presents-board-of-managers-lunchtime-meeting/
CATEGORIES:Meeting
END:VEVENT
BEGIN:VEVENT
DTSTART;TZID=America/Los_Angeles:20250605T100000
DTEND;TZID=America/Los_Angeles:20250606T150000
DTSTAMP:20260423T054032
CREATED:20241204T222335Z
LAST-MODIFIED:20250103T205916Z
UID:10000612-1749117600-1749222000@www.cda.org
SUMMARY:CDA Board of Directors
DESCRIPTION:
URL:https://www.cda.org/event-details/cda-board-of-directors-29/
CATEGORIES:Meeting
END:VEVENT
BEGIN:VEVENT
DTSTART;TZID=America/Los_Angeles:20250523T170000
DTEND;TZID=America/Los_Angeles:20250523T183000
DTSTAMP:20260423T054032
CREATED:20250414T180428Z
LAST-MODIFIED:20250414T180430Z
UID:10001053-1748019600-1748025000@www.cda.org
SUMMARY:UCSF Senior Swag Day
DESCRIPTION:Senior Swag Day is CDA’s last touchpoint with dental students at CA dental Schools. CDA\, TDIC\, and the local dental society provide swag and inform graduating students about organized dentistry as they transition into licensed dentists. We aim to have the graduating students update their student applications so we can stay connected and provide them with aseamless transition into practice.
URL:https://www.cda.org/event-details/ucsf-senior-swag-day-3/
LOCATION:UCSF Faculty Alumni House\, 745 Parnassus Avenue\, San Francisco\, CA\, 94122\, United States
CATEGORIES:CDA In-Person Event
END:VEVENT
BEGIN:VEVENT
DTSTART;TZID=America/Los_Angeles:20250523T123000
DTEND;TZID=America/Los_Angeles:20250523T133000
DTSTAMP:20260423T054032
CREATED:20241204T221837Z
LAST-MODIFIED:20250103T210428Z
UID:10000611-1748003400-1748007000@www.cda.org
SUMMARY:Committee on Volunteer Placement
DESCRIPTION:
URL:https://www.cda.org/event-details/committee-on-volunteer-placement-10/
CATEGORIES:Meeting
END:VEVENT
BEGIN:VEVENT
DTSTART;TZID=America/Los_Angeles:20250516T083000
DTEND;TZID=America/Los_Angeles:20250516T163000
DTSTAMP:20260423T054032
CREATED:20250120T192046Z
LAST-MODIFIED:20250129T185406Z
UID:10000691-1747384200-1747413000@www.cda.org
SUMMARY:Dental Team Summit
DESCRIPTION:Join an engaging and interactive learning event designed to empower your dental team with the knowledge and skills to elevate your practice. Breakout sessions are tailored to leaders\, office managers and front- and back-office team members\, ensuring that each member gains valuable insights and tactics to take back to practice. Network with experts and fellow dental professionals and leave with actionable strategies to drive your practice’s success.
URL:https://www.cda.org/event-details/dental-team-summit-3/
LOCATION:Anaheim Convention Center\, 200 S. Anaheim Blvd.\, Anaheim\, CA\, United States
CATEGORIES:CDA In-Person Event
ATTACH;FMTTYPE=image/jpeg:https://www.cda.org/wp-content/uploads/CDAP_25_DTS_HP_large_mobile.jpg
END:VEVENT
BEGIN:VEVENT
DTSTART;TZID=America/Los_Angeles:20250515T000000
DTEND;TZID=America/Los_Angeles:20250517T235959
DTSTAMP:20260423T054032
CREATED:20241024T174822Z
LAST-MODIFIED:20250519T174901Z
UID:10000569-1747267200-1747526399@www.cda.org
SUMMARY:CDA Presents The Art and Science of Dentistry
DESCRIPTION:We’re bringing you three full days of skill-building courses and workshops\, an incredible line-up of new and returning speakers and the latest product innovations to boost your patient care!
URL:https://www.cda.org/event-details/cda-presents-the-art-and-science-of-dentistry-5/
LOCATION:Anaheim Convention Center\, 200 S. Anaheim Blvd.\, Anaheim\, CA\, United States
CATEGORIES:CDA In-Person Event,Tradeshow
ATTACH;FMTTYPE=image/png:https://www.cda.org/wp-content/uploads/Screenshot-2025-01-23-132205.png
END:VEVENT
BEGIN:VEVENT
DTSTART;TZID=America/Los_Angeles:20250512T000000
DTEND;TZID=America/Los_Angeles:20250512T235959
DTSTAMP:20260423T054032
CREATED:20250414T180311Z
LAST-MODIFIED:20250414T180313Z
UID:10001052-1747008000-1747094399@www.cda.org
SUMMARY:CNSU Senior Swag Day
DESCRIPTION:Senior Swag Day is CDA’s last touchpoint with dental students at CA dental Schools. CDA\, TDIC\, and the local dental society provide swag and inform graduating students about organized dentistry as they transition into licensed dentists. We aim to have the graduating students update their student applications so we can stay connected and provide them with aseamless transition into practice.
URL:https://www.cda.org/event-details/cnsu-senior-swag-day/
LOCATION:CNSU Downtown Sacramento\, 2200 X Street\, Sacramento\, CA\, 95818\, United States
CATEGORIES:CDA In-Person Event
END:VEVENT
BEGIN:VEVENT
DTSTART;TZID=America/Los_Angeles:20250509T180000
DTEND;TZID=America/Los_Angeles:20250509T203000
DTSTAMP:20260423T054032
CREATED:20250415T173426Z
LAST-MODIFIED:20250415T173429Z
UID:10001055-1746813600-1746822600@www.cda.org
SUMMARY:CNSU D4 TDIC Dinner\, Learn and Mixer
DESCRIPTION:You’ll learn more about premium rates\, benefits\, recommended coverage amounts\, and how TDIC plans differ from other carriers in the marketplace. Plus\, TDIC will be hosting the dinner so after the presentation is over\, students will be able to socialize and enjoy great food and drinks with each other.After the dinner meeting\, we will be taking a short walk to Tipsy Putt\, where TDIC will host the drinks\, and everyone can play indoor miniature golf or other fun games that are there. \n\n\n\nKimpton Sawyer Hotel – Maple Suite Conference Room
URL:https://www.cda.org/event-details/cnsu-d4-tdic-dinner-learn-and-mixer/
LOCATION:Kimpton Sawyer Hotel\, 500 J Street\, Sacramento\, CA\, 95814\, United States
CATEGORIES:CDA In-Person Event
END:VEVENT
BEGIN:VEVENT
DTSTART;TZID=America/Los_Angeles:20250509T080000
DTEND;TZID=America/Los_Angeles:20250509T120000
DTSTAMP:20260423T054032
CREATED:20241014T210352Z
LAST-MODIFIED:20250103T210501Z
UID:10000562-1746777600-1746792000@www.cda.org
SUMMARY:Board of Component Representatives Meeting
DESCRIPTION:
URL:https://www.cda.org/event-details/board-of-component-representatives-meeting-2/
CATEGORIES:Meeting
END:VEVENT
BEGIN:VEVENT
DTSTART;TZID=America/Los_Angeles:20250508T180000
DTEND;TZID=America/Los_Angeles:20250508T190000
DTSTAMP:20260423T054032
CREATED:20250225T201435Z
LAST-MODIFIED:20250311T191801Z
UID:10000843-1746727200-1746730800@www.cda.org
SUMMARY:Turning Conflict into Collaboration
DESCRIPTION:Exclusive webinar – available to Leadership Workshop attendees only \n\n\n\nCourse Description: This workshop focuses on transforming disagreements into opportunities for growth and connection. Utilizing the Thomas Kilmann Conflict Modes and Courageous Conversation tips\, participants will apply their learnings through interactive exercises.    \n\n\n\n Learning Outcomes:  \n\n\n\n\nList the Thomas-Kilmann Conflict Modes and explain how they affect conflict resolution.  \n\n\n\nDescribe 3 ways to start a conversation that potentially could be perceived as high conflict.  \n\n\n\nPractice techniques for having open and respectful conversations during disagreements. 
URL:https://www.cda.org/event-details/turning-conflict-into-collaboration/
LOCATION:Online Webinar
CATEGORIES:CDA Virtual Event
END:VEVENT
BEGIN:VEVENT
DTSTART;TZID=America/Los_Angeles:20250507T120000
DTEND;TZID=America/Los_Angeles:20250507T133000
DTSTAMP:20260423T054032
CREATED:20241204T205802Z
LAST-MODIFIED:20250103T210515Z
UID:10000609-1746619200-1746624600@www.cda.org
SUMMARY:Government Affairs Council
DESCRIPTION:
URL:https://www.cda.org/event-details/government-affairs-council-15/
CATEGORIES:Meeting
END:VEVENT
BEGIN:VEVENT
DTSTART;TZID=America/Los_Angeles:20250506T173000
DTEND;TZID=America/Los_Angeles:20250506T183000
DTSTAMP:20260423T054032
CREATED:20241204T205631Z
LAST-MODIFIED:20250103T210522Z
UID:10000608-1746552600-1746556200@www.cda.org
SUMMARY:CDA Board of Directors
DESCRIPTION:
URL:https://www.cda.org/event-details/cda-board-of-directors-28/
CATEGORIES:Meeting
END:VEVENT
BEGIN:VEVENT
DTSTART;TZID=America/Los_Angeles:20250502T093000
DTEND;TZID=America/Los_Angeles:20250502T150000
DTSTAMP:20260423T054032
CREATED:20241204T205454Z
LAST-MODIFIED:20250103T210533Z
UID:10000607-1746178200-1746198000@www.cda.org
SUMMARY:CDA Finance Committee
DESCRIPTION:
URL:https://www.cda.org/event-details/cda-finance-committee-6/
CATEGORIES:Meeting
END:VEVENT
BEGIN:VEVENT
DTSTART;TZID=America/Los_Angeles:20250430T113000
DTEND;TZID=America/Los_Angeles:20250430T130000
DTSTAMP:20260423T054032
CREATED:20250414T180036Z
LAST-MODIFIED:20250414T180039Z
UID:10001051-1746012600-1746018000@www.cda.org
SUMMARY:USC ASPID Freshmen Orientation
DESCRIPTION:Freshman Orientation is CDA’s first touchpoint with dental students.CDA\, TDIC and the local dental society provide a one-hour orientation presentation focused on educating incoming dental students about organized dentistry. Content includes the main benefits of membership for students and new graduates\, as well as events and activities to engage with while they are students. Our goal is to have every incoming student fill out their student application to activate their membership.
URL:https://www.cda.org/event-details/usc-aspid-freshmen-orientation-2/
LOCATION:USC School of Dentistry\, 925 W 34th Street\, Los Angeles\, CA\, 90089\, United States
CATEGORIES:CDA In-Person Event
END:VEVENT
BEGIN:VEVENT
DTSTART;TZID=America/Los_Angeles:20250425T100000
DTEND;TZID=America/Los_Angeles:20250425T160000
DTSTAMP:20260423T054032
CREATED:20241204T200100Z
LAST-MODIFIED:20250103T210629Z
UID:10000605-1745575200-1745596800@www.cda.org
SUMMARY:CDA Foundation Board of Directors
DESCRIPTION:
URL:https://www.cda.org/event-details/cda-foundation-board-of-directors-8/
CATEGORIES:Meeting
END:VEVENT
BEGIN:VEVENT
DTSTART;TZID=America/Los_Angeles:20250421T000000
DTEND;TZID=America/Los_Angeles:20250421T235959
DTSTAMP:20260423T054032
CREATED:20250123T190434Z
LAST-MODIFIED:20250212T193340Z
UID:10000815-1745193600-1745279999@www.cda.org
SUMMARY:Western U ASDA Vendor Fair
DESCRIPTION:
URL:https://www.cda.org/event-details/western-u-asda-vendor-fair/
LOCATION:Western University\, 309 E. Second Street\, Pomona\, CA\, 91766\, United States
CATEGORIES:CDA In-Person Event
ATTACH;FMTTYPE=image/jpeg:https://www.cda.org/wp-content/uploads/Western_Us_ASDA_Vendor_Fair.jpg
END:VEVENT
BEGIN:VEVENT
DTSTART;TZID=America/Los_Angeles:20250418T100000
DTEND;TZID=America/Los_Angeles:20250418T140000
DTSTAMP:20260423T054032
CREATED:20241204T195925Z
LAST-MODIFIED:20250103T210637Z
UID:10000604-1744970400-1744984800@www.cda.org
SUMMARY:CDA Audit Committee
DESCRIPTION:
URL:https://www.cda.org/event-details/cda-audit-committee-8/
CATEGORIES:Meeting
END:VEVENT
BEGIN:VEVENT
DTSTART;TZID=America/Los_Angeles:20250417T110000
DTEND;TZID=America/Los_Angeles:20250417T140000
DTSTAMP:20260423T054032
CREATED:20250305T192957Z
LAST-MODIFIED:20250305T192959Z
UID:10000851-1744887600-1744898400@www.cda.org
SUMMARY:UCLA Senior Swag Day
DESCRIPTION:Senior Swag Day is CDA’s last touchpoint with dental students at CA dental Schools. CDA\, TDIC\, and the local dental society provide swag and inform graduating students about organized dentistry as the transition into licensed dentists. We aim to have the graduating students update their student applications so we can stay connected and provide them with a seamless transition into practice.
URL:https://www.cda.org/event-details/ucla-senior-swag-day-4/
LOCATION:UCLA School of Dentistry\, 714 Tiverton\, Los Angeles\, CA\, 90095\, United States
CATEGORIES:CDA In-Person Event
ATTACH;FMTTYPE=image/jpeg:https://www.cda.org/wp-content/uploads/214-48573aa465b0db6591e7198830e04a81_UCLA_Senior_Swag_Day.jpg
END:VEVENT
BEGIN:VEVENT
DTSTART;TZID=America/Los_Angeles:20250416T110000
DTEND;TZID=America/Los_Angeles:20250416T140000
DTSTAMP:20260423T054032
CREATED:20250305T192936Z
LAST-MODIFIED:20250305T192939Z
UID:10000850-1744801200-1744812000@www.cda.org
SUMMARY:UCLA Senior Swag Day
DESCRIPTION:Senior Swag Day is CDA’s last touchpoint with dental students at CA dental Schools. CDA\, TDIC\, and the local dental society provide swag and inform graduating students about organized dentistry as the transition into licensed dentists. We aim to have the graduating students update their student applications so we can stay connected and provide them with a seamless transition into practice.
URL:https://www.cda.org/event-details/ucla-senior-swag-day-3/
LOCATION:UCLA School of Dentistry\, 714 Tiverton\, Los Angeles\, CA\, 90095\, United States
CATEGORIES:CDA In-Person Event
ATTACH;FMTTYPE=image/jpeg:https://www.cda.org/wp-content/uploads/214-48573aa465b0db6591e7198830e04a81_UCLA_Senior_Swag_Day.jpg
END:VEVENT
BEGIN:VEVENT
DTSTART;TZID=America/Los_Angeles:20250410T173000
DTEND;TZID=America/Los_Angeles:20250410T183000
DTSTAMP:20260423T054032
CREATED:20250123T010833Z
LAST-MODIFIED:20250310T231238Z
UID:10000809-1744306200-1744309800@www.cda.org
SUMMARY:HIPAA COMPLIANCE: Reduce Risks and Improve Security
DESCRIPTION:Privacy violations continue to occur among dental practices. Healthcare entities continue to be found lacking in meeting HIPAA security standards while the incidence of cyber incidents grows. \n\n\n\nLearning Objectives: \n\n\n\n\nUnderstand the issues which bring dental practices under investigation by Office for Civil Rights.\n\n\n\nLearn about potential changes to the HIPAA Security Rule.\n\n\n\nKnow where to look for compliance assistance.
URL:https://www.cda.org/event-details/webinar-hipaa-cybersecurity-with-abyde/
LOCATION:Online Webinar
CATEGORIES:CDA Virtual Event
ATTACH;FMTTYPE=image/jpeg:https://www.cda.org/wp-content/uploads/CDAPS_HIPAA_cyber_webinar_FBLI-1.jpg
END:VEVENT
BEGIN:VEVENT
DTSTART;TZID=America/Los_Angeles:20250410T170000
DTEND;TZID=America/Los_Angeles:20250410T200000
DTSTAMP:20260423T054032
CREATED:20250120T201738Z
LAST-MODIFIED:20250205T210440Z
UID:10000701-1744304400-1744315200@www.cda.org
SUMMARY:LLU ASDA Vendor Fair
DESCRIPTION:
URL:https://www.cda.org/event-details/llu-asda-vendor-fair/
LOCATION:Loma Linda University School of Dentistry\, 11092 Anderson Street\, Loma Linda\, California\, 92350\, United States
CATEGORIES:CDA In-Person Event
ATTACH;FMTTYPE=image/jpeg:https://www.cda.org/wp-content/uploads/LLU-Vendor-Fair-scaled.jpg
END:VEVENT
BEGIN:VEVENT
DTSTART;TZID=America/Los_Angeles:20250409T180000
DTEND;TZID=America/Los_Angeles:20250409T190000
DTSTAMP:20260423T054032
CREATED:20250225T201359Z
LAST-MODIFIED:20250311T191744Z
UID:10000842-1744221600-1744225200@www.cda.org
SUMMARY:The Art of Conflict Resolution
DESCRIPTION:Exclusive webinar – available to Leadership Workshop attendees only \n\n\n\nThis course explores effective strategies for addressing and managing conflict within an influence-based leadership framework. Using the Thomas-Kilmann Conflict Modes participants will learn to identify which conflict modes they tend to lean on more than others. \n\n\n\nLearning Outcomes: \n\n\n\n\nDiscuss which Conflict Modes are the most appropriate for a variety of situations.\n\n\n\nDescribe the 5 Conflict Modes outlined in the Thomas-Kilmann Conflict Indicator.\n\n\n\nIdentify individual tendencies within the Thomas-Kilmann Conflict Mode.
URL:https://www.cda.org/event-details/the-art-of-conflict-resolution/
LOCATION:Online Webinar
CATEGORIES:CDA Virtual Event
END:VEVENT
BEGIN:VEVENT
DTSTART;TZID=America/Los_Angeles:20250408T173000
DTEND;TZID=America/Los_Angeles:20250408T183000
DTSTAMP:20260423T054032
CREATED:20241204T195329Z
LAST-MODIFIED:20250103T210700Z
UID:10000601-1744133400-1744137000@www.cda.org
SUMMARY:CDA Board of Directors
DESCRIPTION:
URL:https://www.cda.org/event-details/cda-board-of-directors-27/
CATEGORIES:Meeting
END:VEVENT
BEGIN:VEVENT
DTSTART;TZID=America/Los_Angeles:20250408T110000
DTEND;TZID=America/Los_Angeles:20250408T130000
DTSTAMP:20260423T054032
CREATED:20250120T201516Z
LAST-MODIFIED:20250123T191215Z
UID:10000816-1744110000-1744117200@www.cda.org
SUMMARY:USC- Senior Swag Day
DESCRIPTION:Senior Swag Day is CDA’s last touchpoint with dental students at CAdental Schools. CDA\, TDIC\, and the local dental society provide swag and inform graduating students about organized dentistry as they transition into licensed dentists. We aim to have the graduating students update their student applications so we can stay connected and provide them with a seamless transition into practice.
URL:https://www.cda.org/event-details/usc-senior-swag-day/
LOCATION:USC School of Dentistry\, 925 W 34th Street\, Los Angeles\, CA\, 90089\, United States
CATEGORIES:CDA In-Person Event
ATTACH;FMTTYPE=image/jpeg:https://www.cda.org/wp-content/uploads/USC-Senior-Swag.jpg
END:VEVENT
BEGIN:VEVENT
DTSTART;TZID=America/Los_Angeles:20250407T110000
DTEND;TZID=America/Los_Angeles:20250407T130000
DTSTAMP:20260423T054032
CREATED:20250123T191923Z
LAST-MODIFIED:20250123T191924Z
UID:10000699-1744023600-1744030800@www.cda.org
SUMMARY:USC- Senior Swag Day
DESCRIPTION:Senior Swag Day is CDA’s last touchpoint with dental students at CAdental Schools. CDA\, TDIC\, and the local dental society provide swag and inform graduating students about organized dentistry as they transition into licensed dentists. We aim to have the graduating students update their student applications so we can stay connected and provide them with a seamless transition into practice.
URL:https://www.cda.org/event-details/usc-senior-swag-day-4/
LOCATION:USC School of Dentistry\, 925 W 34th Street\, Los Angeles\, CA\, 90089\, United States
CATEGORIES:CDA In-Person Event
ATTACH;FMTTYPE=image/jpeg:https://www.cda.org/wp-content/uploads/USC-Senior-Swag.jpg
END:VEVENT
END:VCALENDAR